BEGIN:VCALENDAR
VERSION:2.0
PRODID:-//Look Lively - ECPv6.15.11//NONSGML v1.0//EN
CALSCALE:GREGORIAN
METHOD:PUBLISH
X-WR-CALNAME:Look Lively
X-ORIGINAL-URL:https://looklively.app
X-WR-CALDESC:Events for Look Lively
REFRESH-INTERVAL;VALUE=DURATION:PT1H
X-Robots-Tag:noindex
X-PUBLISHED-TTL:PT1H
BEGIN:VTIMEZONE
TZID:Europe/London
BEGIN:DAYLIGHT
TZOFFSETFROM:+0000
TZOFFSETTO:+0100
TZNAME:BST
DTSTART:20240331T010000
END:DAYLIGHT
BEGIN:STANDARD
TZOFFSETFROM:+0100
TZOFFSETTO:+0000
TZNAME:GMT
DTSTART:20241027T010000
END:STANDARD
BEGIN:DAYLIGHT
TZOFFSETFROM:+0000
TZOFFSETTO:+0100
TZNAME:BST
DTSTART:20250330T010000
END:DAYLIGHT
BEGIN:STANDARD
TZOFFSETFROM:+0100
TZOFFSETTO:+0000
TZNAME:GMT
DTSTART:20251026T010000
END:STANDARD
BEGIN:DAYLIGHT
TZOFFSETFROM:+0000
TZOFFSETTO:+0100
TZNAME:BST
DTSTART:20260329T010000
END:DAYLIGHT
BEGIN:STANDARD
TZOFFSETFROM:+0100
TZOFFSETTO:+0000
TZNAME:GMT
DTSTART:20261025T010000
END:STANDARD
END:VTIMEZONE
BEGIN:VEVENT
DTSTART;TZID=Europe/London:20250208T163000
DTEND;TZID=Europe/London:20250208T183000
DTSTAMP:20260422T112630
CREATED:20250206T213821Z
LAST-MODIFIED:20250206T213905Z
UID:10406-1739032200-1739039400@looklively.app
SUMMARY:6 Nations – England vs France live at The Courtyard
DESCRIPTION:6 Nations – England vs France LIVE at The Courtyard! Saturday 8th February |  Kick-off 4:45 PM |  The Courtyard It’s match week\, and we’re bringing the 6 Nations action straight to the pub! England vs France  – A clash of rugby titans\, and there’s no better place to watch it than right here at The Courtyard! Grab a pintFind your spot Enjoy the game on the big screens with top-notch atmosphere!  
URL:https://looklively.app/event/6-nations-england-vs-france-live-at-the-courtyard/
LOCATION:The Courtyard\, 23 Baxter's Wynd\, Falkirk\, FK1 1PF\, United Kingdom
ATTACH;FMTTYPE=image/png:https://looklively.app/wp-content/uploads/2025/02/EVENT-POST-PHOTO-61.png
END:VEVENT
END:VCALENDAR