BEGIN:VCALENDAR
VERSION:2.0
PRODID:-//Look Lively - ECPv6.15.11//NONSGML v1.0//EN
CALSCALE:GREGORIAN
METHOD:PUBLISH
X-WR-CALNAME:Look Lively
X-ORIGINAL-URL:https://looklively.app
X-WR-CALDESC:Events for Look Lively
REFRESH-INTERVAL;VALUE=DURATION:PT1H
X-Robots-Tag:noindex
X-PUBLISHED-TTL:PT1H
BEGIN:VTIMEZONE
TZID:Europe/London
BEGIN:DAYLIGHT
TZOFFSETFROM:+0000
TZOFFSETTO:+0100
TZNAME:BST
DTSTART:20240331T010000
END:DAYLIGHT
BEGIN:STANDARD
TZOFFSETFROM:+0100
TZOFFSETTO:+0000
TZNAME:GMT
DTSTART:20241027T010000
END:STANDARD
BEGIN:DAYLIGHT
TZOFFSETFROM:+0000
TZOFFSETTO:+0100
TZNAME:BST
DTSTART:20250330T010000
END:DAYLIGHT
BEGIN:STANDARD
TZOFFSETFROM:+0100
TZOFFSETTO:+0000
TZNAME:GMT
DTSTART:20251026T010000
END:STANDARD
BEGIN:DAYLIGHT
TZOFFSETFROM:+0000
TZOFFSETTO:+0100
TZNAME:BST
DTSTART:20260329T010000
END:DAYLIGHT
BEGIN:STANDARD
TZOFFSETFROM:+0100
TZOFFSETTO:+0000
TZNAME:GMT
DTSTART:20261025T010000
END:STANDARD
END:VTIMEZONE
BEGIN:VEVENT
DTSTART;TZID=Europe/London:20250208T123000
DTEND;TZID=Europe/London:20250208T140000
DTSTAMP:20260422T112434
CREATED:20250129T180827Z
LAST-MODIFIED:20250129T180901Z
UID:10089-1739017800-1739023200@looklively.app
SUMMARY:6-Week Beginner Boxing Programme at Sparta Boxing Academy
DESCRIPTION:Join our 6-Week Beginners Boxing Programme with Fabrizio Di Battista It can be quite a daunting task to walk through a boxing gym. This will give you the chance to learn the fundamentals and build your confidence with people that are in the same position as yourself. By the end of the 6 weeks you will be fully ready to join our senior boxing group sessions. Program Duration: 6 weeksStart Date: Saturday 8th FebruaryTime: Every Saturday 12.30-2.00pmLocation: Sparta Boxing Academy What’s included:-Saturday 12.30-1.30pm (Beginners Boxing)-Weekly High Quality Video Tutorials-WhatsApp Group Price:Deposit – £75Course Price – £150\, Must be paid in full one week before the camp commences. You will learn:FundamentalsBoxing StanceFootworkDefence DrillsPunch MechanicsPartner DrillsShadow BoxingBag DrillsPad-WorkTouch Sparring Who can join?This program is perfect for absolute beginners and individuals with little to no boxing experience.Open to all fitness levels and ages (16+)Limited space available\, so secure your place now! For registration or more information\, please contact us via text or email at 07366 468841 or fabriziodibattista@hotmail.com
URL:https://looklively.app/event/6-week-beginner-boxing-programme-at-sparta-boxing-academy/
LOCATION:Sparta Boxing Academy\, Unit 3\, Castlelaurie Industrial Estate\, Castlelaurie St\, Falkirk\, FK2 7XY\, United Kingdom
ATTACH;FMTTYPE=image/png:https://looklively.app/wp-content/uploads/2025/01/EVENT-POST-PHOTO-31.png
END:VEVENT
END:VCALENDAR