BEGIN:VCALENDAR
VERSION:2.0
PRODID:-//Look Lively - ECPv6.15.11//NONSGML v1.0//EN
CALSCALE:GREGORIAN
METHOD:PUBLISH
X-WR-CALNAME:Look Lively
X-ORIGINAL-URL:https://looklively.app
X-WR-CALDESC:Events for Look Lively
REFRESH-INTERVAL;VALUE=DURATION:PT1H
X-Robots-Tag:noindex
X-PUBLISHED-TTL:PT1H
BEGIN:VTIMEZONE
TZID:Europe/London
BEGIN:DAYLIGHT
TZOFFSETFROM:+0000
TZOFFSETTO:+0100
TZNAME:BST
DTSTART:20240331T010000
END:DAYLIGHT
BEGIN:STANDARD
TZOFFSETFROM:+0100
TZOFFSETTO:+0000
TZNAME:GMT
DTSTART:20241027T010000
END:STANDARD
BEGIN:DAYLIGHT
TZOFFSETFROM:+0000
TZOFFSETTO:+0100
TZNAME:BST
DTSTART:20250330T010000
END:DAYLIGHT
BEGIN:STANDARD
TZOFFSETFROM:+0100
TZOFFSETTO:+0000
TZNAME:GMT
DTSTART:20251026T010000
END:STANDARD
BEGIN:DAYLIGHT
TZOFFSETFROM:+0000
TZOFFSETTO:+0100
TZNAME:BST
DTSTART:20260329T010000
END:DAYLIGHT
BEGIN:STANDARD
TZOFFSETFROM:+0100
TZOFFSETTO:+0000
TZNAME:GMT
DTSTART:20261025T010000
END:STANDARD
END:VTIMEZONE
BEGIN:VEVENT
DTSTART;TZID=Europe/London:20250711T193000
DTEND;TZID=Europe/London:20250711T230000
DTSTAMP:20260422T024532
CREATED:20250506T164108Z
LAST-MODIFIED:20250606T123118Z
UID:16062-1752262200-1752274800@looklively.app
SUMMARY:A Songwriters Circle 2
DESCRIPTION:A night of original songs and stories with four of the Forth Valleys finest songwriters.
URL:https://looklively.app/event/a-songwriters-circle-2/
LOCATION:Slanj A Va\, 9 Upper Craigs\, Stirling\, FK8 2DG\, United Kingdom
CATEGORIES:Stirling
ATTACH;FMTTYPE=image/jpeg:https://looklively.app/wp-content/uploads/2025/05/2010762_2d565134_a-songwriters-circle-2_th-1.jpg
END:VEVENT
END:VCALENDAR