BEGIN:VCALENDAR
VERSION:2.0
PRODID:-//Look Lively - ECPv6.15.11//NONSGML v1.0//EN
CALSCALE:GREGORIAN
METHOD:PUBLISH
X-WR-CALNAME:Look Lively
X-ORIGINAL-URL:https://looklively.app
X-WR-CALDESC:Events for Look Lively
REFRESH-INTERVAL;VALUE=DURATION:PT1H
X-Robots-Tag:noindex
X-PUBLISHED-TTL:PT1H
BEGIN:VTIMEZONE
TZID:Europe/London
BEGIN:DAYLIGHT
TZOFFSETFROM:+0000
TZOFFSETTO:+0100
TZNAME:BST
DTSTART:20240331T010000
END:DAYLIGHT
BEGIN:STANDARD
TZOFFSETFROM:+0100
TZOFFSETTO:+0000
TZNAME:GMT
DTSTART:20241027T010000
END:STANDARD
BEGIN:DAYLIGHT
TZOFFSETFROM:+0000
TZOFFSETTO:+0100
TZNAME:BST
DTSTART:20250330T010000
END:DAYLIGHT
BEGIN:STANDARD
TZOFFSETFROM:+0100
TZOFFSETTO:+0000
TZNAME:GMT
DTSTART:20251026T010000
END:STANDARD
BEGIN:DAYLIGHT
TZOFFSETFROM:+0000
TZOFFSETTO:+0100
TZNAME:BST
DTSTART:20260329T010000
END:DAYLIGHT
BEGIN:STANDARD
TZOFFSETFROM:+0100
TZOFFSETTO:+0000
TZNAME:GMT
DTSTART:20261025T010000
END:STANDARD
END:VTIMEZONE
BEGIN:VEVENT
DTSTART;TZID=Europe/London:20250410T190000
DTEND;TZID=Europe/London:20250410T223000
DTSTAMP:20260420T075458
CREATED:20250304T224945Z
LAST-MODIFIED:20250304T224945Z
UID:11740-1744311600-1744324200@looklively.app
SUMMARY:Across The Universe 66-77 – The Ultimate Beatles Tribute
DESCRIPTION:Across The Universe 66-77 – The Ultimate Beatles Tribute! \nGet ready for an unforgettable night of Beatles classics as Across The Universe 66-77 takes you on a journey through the iconic studio years of The Beatles from 1966 to 1970. Featuring a live band and orchestra\, this tribute show captures the legendary sounds of the Fab Four with stunning accuracy and energy. \nVenue: Alloa Town Hall\nDate: Thursday\, 10th April 2025\nTime: 7:00 PM – 10:30 PM (Performance starts at 7:30 PM)\nMinimum Age: 14+ \nFrom Sgt. Pepper’s psychedelic vibes to the timeless anthems of Abbey Road and Let It Be\, this is a must-see experience for any Beatles fan. Sing along to the greatest hits\, relive the magic\, and immerse yourself in the era that changed music forever. \nTickets are available now – Click here to book\, nearly sold out!
URL:https://looklively.app/event/across-the-universe-66-77-the-ultimate-beatles-tribute/
LOCATION:Alloa Town Hall\, Mars Hill\, Alloa\, FK10 1AB\, United Kingdom
ATTACH;FMTTYPE=image/avif:https://looklively.app/wp-content/uploads/2025/03/1872066_eca450de_across-the-universe-66-70-the-beatles-tribute-_1024.avif
END:VEVENT
END:VCALENDAR