BEGIN:VCALENDAR
VERSION:2.0
PRODID:-//Look Lively - ECPv6.15.11//NONSGML v1.0//EN
CALSCALE:GREGORIAN
METHOD:PUBLISH
X-WR-CALNAME:Look Lively
X-ORIGINAL-URL:https://looklively.app
X-WR-CALDESC:Events for Look Lively
REFRESH-INTERVAL;VALUE=DURATION:PT1H
X-Robots-Tag:noindex
X-PUBLISHED-TTL:PT1H
BEGIN:VTIMEZONE
TZID:Europe/London
BEGIN:DAYLIGHT
TZOFFSETFROM:+0000
TZOFFSETTO:+0100
TZNAME:BST
DTSTART:20240331T010000
END:DAYLIGHT
BEGIN:STANDARD
TZOFFSETFROM:+0100
TZOFFSETTO:+0000
TZNAME:GMT
DTSTART:20241027T010000
END:STANDARD
BEGIN:DAYLIGHT
TZOFFSETFROM:+0000
TZOFFSETTO:+0100
TZNAME:BST
DTSTART:20250330T010000
END:DAYLIGHT
BEGIN:STANDARD
TZOFFSETFROM:+0100
TZOFFSETTO:+0000
TZNAME:GMT
DTSTART:20251026T010000
END:STANDARD
BEGIN:DAYLIGHT
TZOFFSETFROM:+0000
TZOFFSETTO:+0100
TZNAME:BST
DTSTART:20260329T010000
END:DAYLIGHT
BEGIN:STANDARD
TZOFFSETFROM:+0100
TZOFFSETTO:+0000
TZNAME:GMT
DTSTART:20261025T010000
END:STANDARD
END:VTIMEZONE
BEGIN:VEVENT
DTSTART;TZID=Europe/London:20250308T150000
DTEND;TZID=Europe/London:20250308T233000
DTSTAMP:20260421T195136
CREATED:20250225T200724Z
LAST-MODIFIED:20250225T200747Z
UID:11113-1741446000-1741476600@looklively.app
SUMMARY:All-Day Karaoke at The Scotia
DESCRIPTION:All-Day Karaoke at The Scotia – Saturday\, March 8th Get ready for a full day of karaoke madness at The Scotia! Whether you’re warming up for a big night or belting out tunes into the early hours\, Saturday\, March 8th\, is all about YOU being the star! Date: Saturday\, March 8thLoft: 3:00 PM – 7:00 PM & 8:00 PM – 12:30 AMMain Bar: 7:30 PM – 1:00 AMVenue: The Scotia With three karaoke sessions running across the venue\, there’s plenty of time to grab the mic and own the stage! Whether you love classic rock\, pop anthems\, power ballads\, or guilty pleasures\, we’ve got a huge song selection waiting for you. Sing solo\, duet with a friend\, or get the whole bar singing along!Two locations – The Loft & Main Bar – for a non-stop karaoke party!Great drinks\, great company\, and a buzzing atmosphere all day & night! Come down early\, pick your songs\, and let’s make it a night to remember. No sign-up needed – just turn up\, grab the mic\, and shine!  
URL:https://looklively.app/event/all-day-karaoke-at-the-scotia/
LOCATION:The Scotia\, 51 Manor St\, Falkirk\, FK1 1NH\, United Kingdom
ATTACH;FMTTYPE=image/png:https://looklively.app/wp-content/uploads/2025/02/EVENT-POST-PHOTO-87.png
END:VEVENT
END:VCALENDAR