BEGIN:VCALENDAR
VERSION:2.0
PRODID:-//Look Lively - ECPv6.15.11//NONSGML v1.0//EN
CALSCALE:GREGORIAN
METHOD:PUBLISH
X-WR-CALNAME:Look Lively
X-ORIGINAL-URL:https://looklively.app
X-WR-CALDESC:Events for Look Lively
REFRESH-INTERVAL;VALUE=DURATION:PT1H
X-Robots-Tag:noindex
X-PUBLISHED-TTL:PT1H
BEGIN:VTIMEZONE
TZID:Europe/London
BEGIN:DAYLIGHT
TZOFFSETFROM:+0000
TZOFFSETTO:+0100
TZNAME:BST
DTSTART:20240331T010000
END:DAYLIGHT
BEGIN:STANDARD
TZOFFSETFROM:+0100
TZOFFSETTO:+0000
TZNAME:GMT
DTSTART:20241027T010000
END:STANDARD
BEGIN:DAYLIGHT
TZOFFSETFROM:+0000
TZOFFSETTO:+0100
TZNAME:BST
DTSTART:20250330T010000
END:DAYLIGHT
BEGIN:STANDARD
TZOFFSETFROM:+0100
TZOFFSETTO:+0000
TZNAME:GMT
DTSTART:20251026T010000
END:STANDARD
BEGIN:DAYLIGHT
TZOFFSETFROM:+0000
TZOFFSETTO:+0100
TZNAME:BST
DTSTART:20260329T010000
END:DAYLIGHT
BEGIN:STANDARD
TZOFFSETFROM:+0100
TZOFFSETTO:+0000
TZNAME:GMT
DTSTART:20261025T010000
END:STANDARD
END:VTIMEZONE
BEGIN:VEVENT
DTSTART;VALUE=DATE:20250517
DTEND;VALUE=DATE:20250518
DTSTAMP:20260420T010409
CREATED:20250403T094236Z
LAST-MODIFIED:20250403T094236Z
UID:14398-1747440000-1747526399@looklively.app
SUMMARY:Candlelight: A Tribute to Adele
DESCRIPTION:­ Candlelight concerts bring the magic of a live\, multi-sensory musical experience to awe-inspiring locations like never seen before in Glasgow\nGet your tickets now to discover the music of Adele at Merchants House of Glasgow under the gentle glow of candlelight\nGeneral Info 📍 Venue: Merchants House of Glasgow 📅 Dates and times: select your dates/times directly in the ticket selector  ³ Duration: 60 minutes plus 15 minute interval (doors open 45 mins prior to the start time and late entry is not permitted) 👤 Age requirement: 8 years old or older\nAnyone under the age of 16 must be accompanied by an adult  ™¿ Accessibility: this venue is wheelchair accessible  “ View the FAQs for this event here 🪑 Seating is assigned on a first come first served basis in each zone 🕯️ If you would like to book a private concert or buy regular tickets for a large group (+30 people)\, click here  » Check out all the Candlelight concerts in Glasgow   To treat your friends and family to a Candlelight gift card\, click here Programme Hello Rumour Has It Make You Feel My Love Water Under the Bridge Oh My God Someone Like You Send My Love (To Your New Lover) Chasing Pavements Skyfall When We Were Young Set Fire to the Rain Easy On Me Rolling in the Deep Performers Belford Strings Seating Map
URL:https://looklively.app/event/candlelight-a-tribute-to-adele/
LOCATION:Merchants House of Glasgow\, Grand Hall\, 7 West George Street\, Glasgow\, G2 1BA\, United Kingdom
ATTACH;FMTTYPE=image/jpeg:https://looklively.app/wp-content/uploads/2025/04/aa88d8f6-063d-11ef-a70a-3a2fd116bee4-Yx1Fh5.tmp_.jpg
END:VEVENT
END:VCALENDAR