BEGIN:VCALENDAR
VERSION:2.0
PRODID:-//Look Lively - ECPv6.15.11//NONSGML v1.0//EN
CALSCALE:GREGORIAN
METHOD:PUBLISH
X-WR-CALNAME:Look Lively
X-ORIGINAL-URL:https://looklively.app
X-WR-CALDESC:Events for Look Lively
REFRESH-INTERVAL;VALUE=DURATION:PT1H
X-Robots-Tag:noindex
X-PUBLISHED-TTL:PT1H
BEGIN:VTIMEZONE
TZID:Europe/London
BEGIN:DAYLIGHT
TZOFFSETFROM:+0000
TZOFFSETTO:+0100
TZNAME:BST
DTSTART:20240331T010000
END:DAYLIGHT
BEGIN:STANDARD
TZOFFSETFROM:+0100
TZOFFSETTO:+0000
TZNAME:GMT
DTSTART:20241027T010000
END:STANDARD
BEGIN:DAYLIGHT
TZOFFSETFROM:+0000
TZOFFSETTO:+0100
TZNAME:BST
DTSTART:20250330T010000
END:DAYLIGHT
BEGIN:STANDARD
TZOFFSETFROM:+0100
TZOFFSETTO:+0000
TZNAME:GMT
DTSTART:20251026T010000
END:STANDARD
BEGIN:DAYLIGHT
TZOFFSETFROM:+0000
TZOFFSETTO:+0100
TZNAME:BST
DTSTART:20260329T010000
END:DAYLIGHT
BEGIN:STANDARD
TZOFFSETFROM:+0100
TZOFFSETTO:+0000
TZNAME:GMT
DTSTART:20261025T010000
END:STANDARD
END:VTIMEZONE
BEGIN:VEVENT
DTSTART;VALUE=DATE:20250405
DTEND;VALUE=DATE:20250406
DTSTAMP:20260422T234738
CREATED:20250403T094237Z
LAST-MODIFIED:20250403T094237Z
UID:14404-1743811200-1743897599@looklively.app
SUMMARY:Candlelight: A Tribute to Coldplay
DESCRIPTION:­ Candlelight concerts bring the magic of a live\, multi-sensory musical experience to awe-inspiring locations never before used for this purpose in Glasgow\nBuy your tickets now to discover the music of Coldplay at The Trades Hall under the gentle glow of candlelight\nGeneral Info 📍 Venue: The Trades Hall 📅 Date and times: (select during purchase)  ³ Duration: 65 minutes\, including a 15-minute interval (doors open 45 mins prior to the start time and late entry is not permitted) 👤 Age requirement: 8+\nAnyone under the age of 16 must be accompanied by an adult  ™¿ Accessibility: this venue is wheelchair accessible  “ View the FAQs for this event here 🪑 Seating is assigned on a first come first served basis in each zone 🕯️ If you would like to book a private concert\, please click here   To treat your friends and family to a Candlelight gift card\, click here Tentative Programme Viva la Vida A Sky Full of Stars Paradise Fix You Clocks Yellow The Scientist Paradise Hymn for the Weekend Politik Speed Of Sound Don €™t Panic Warning Sign In My Place Something Just Like This Performers String quartet – Quartet of Scotland Seating Map
URL:https://looklively.app/event/candlelight-a-tribute-to-coldplay/
LOCATION:The Trades Hall\, 85 Glassford St\, Glasgow\, G1 1UH\, United Kingdom
ATTACH;FMTTYPE=image/jpeg:https://looklively.app/wp-content/uploads/2025/04/477d8a6c-849c-11ef-9ac6-1603c1bfdb57-WSD3Jm.tmp_.jpg
END:VEVENT
END:VCALENDAR