BEGIN:VCALENDAR
VERSION:2.0
PRODID:-//Look Lively - ECPv6.15.11//NONSGML v1.0//EN
CALSCALE:GREGORIAN
METHOD:PUBLISH
X-WR-CALNAME:Look Lively
X-ORIGINAL-URL:https://looklively.app
X-WR-CALDESC:Events for Look Lively
REFRESH-INTERVAL;VALUE=DURATION:PT1H
X-Robots-Tag:noindex
X-PUBLISHED-TTL:PT1H
BEGIN:VTIMEZONE
TZID:Europe/London
BEGIN:DAYLIGHT
TZOFFSETFROM:+0000
TZOFFSETTO:+0100
TZNAME:BST
DTSTART:20240331T010000
END:DAYLIGHT
BEGIN:STANDARD
TZOFFSETFROM:+0100
TZOFFSETTO:+0000
TZNAME:GMT
DTSTART:20241027T010000
END:STANDARD
BEGIN:DAYLIGHT
TZOFFSETFROM:+0000
TZOFFSETTO:+0100
TZNAME:BST
DTSTART:20250330T010000
END:DAYLIGHT
BEGIN:STANDARD
TZOFFSETFROM:+0100
TZOFFSETTO:+0000
TZNAME:GMT
DTSTART:20251026T010000
END:STANDARD
BEGIN:DAYLIGHT
TZOFFSETFROM:+0000
TZOFFSETTO:+0100
TZNAME:BST
DTSTART:20260329T010000
END:DAYLIGHT
BEGIN:STANDARD
TZOFFSETFROM:+0100
TZOFFSETTO:+0000
TZNAME:GMT
DTSTART:20261025T010000
END:STANDARD
END:VTIMEZONE
BEGIN:VEVENT
DTSTART;VALUE=DATE:20250411
DTEND;VALUE=DATE:20250412
DTSTAMP:20260424T130245
CREATED:20250402T190935Z
LAST-MODIFIED:20250402T202913Z
UID:14240-1744329600-1744415999@looklively.app
SUMMARY:Candlelight: Coldplay and Ed Sheeran
DESCRIPTION:⭐ Candlelight concerts bring the magic of a live\, multi-sensory musical experience to awe-inspiring locations like never seen before in Edinburgh. \nGet your tickets now to discover the music of Coldplay and Ed Sheeran at St Mary’s Episcopal Cathedral under the gentle glow of candlelight. \nGeneral Info 📍 Venue: St Mary’s Episcopal Cathedral\n📅 Dates and times: select your dates/times directly in the ticket selector\n⏳ Duration: 60 minutes (doors open 45 mins prior to the start time and late entry is not permitted)\n👤 Age requirement: 8 years old or older. Anyone under the age of 16 must be accompanied by an adult ♿ Accessibility: this venue is wheelchair accessible\n❓ View the FAQs for this event here\n🪑 Seating is assigned on a first come first served basis in each zone \n🕯️ If you would like to book a private concert or buy regular tickets for a large group (+30 people)\, click here 🎻 Check out all the Candlelight concerts in Edinburgh\n🎁 To treat your friends and family to a Candlelight gift card\, click here Programme Candlelight: Coldplay and Ed Sheeran Performers String quartet – Belford Strings Seating Map
URL:https://looklively.app/event/candlelight-coldplay-and-ed-sheeran/
LOCATION:St Mary’s Episcopal Cathedral\, Palmerston Place\, Edinburgh\, United Kingdom
ATTACH;FMTTYPE=image/jpeg:https://looklively.app/wp-content/uploads/2025/04/ec4bc94c-092b-11ef-85ac-8e25b523fd66-tgucq9.tmp_.jpg
END:VEVENT
END:VCALENDAR