BEGIN:VCALENDAR
VERSION:2.0
PRODID:-//Look Lively - ECPv6.15.11//NONSGML v1.0//EN
CALSCALE:GREGORIAN
METHOD:PUBLISH
X-WR-CALNAME:Look Lively
X-ORIGINAL-URL:https://looklively.app
X-WR-CALDESC:Events for Look Lively
REFRESH-INTERVAL;VALUE=DURATION:PT1H
X-Robots-Tag:noindex
X-PUBLISHED-TTL:PT1H
BEGIN:VTIMEZONE
TZID:Europe/London
BEGIN:DAYLIGHT
TZOFFSETFROM:+0000
TZOFFSETTO:+0100
TZNAME:BST
DTSTART:20240331T010000
END:DAYLIGHT
BEGIN:STANDARD
TZOFFSETFROM:+0100
TZOFFSETTO:+0000
TZNAME:GMT
DTSTART:20241027T010000
END:STANDARD
BEGIN:DAYLIGHT
TZOFFSETFROM:+0000
TZOFFSETTO:+0100
TZNAME:BST
DTSTART:20250330T010000
END:DAYLIGHT
BEGIN:STANDARD
TZOFFSETFROM:+0100
TZOFFSETTO:+0000
TZNAME:GMT
DTSTART:20251026T010000
END:STANDARD
BEGIN:DAYLIGHT
TZOFFSETFROM:+0000
TZOFFSETTO:+0100
TZNAME:BST
DTSTART:20260329T010000
END:DAYLIGHT
BEGIN:STANDARD
TZOFFSETFROM:+0100
TZOFFSETTO:+0000
TZNAME:GMT
DTSTART:20261025T010000
END:STANDARD
END:VTIMEZONE
BEGIN:VEVENT
DTSTART;VALUE=DATE:20250420
DTEND;VALUE=DATE:20250422
DTSTAMP:20260423T141931
CREATED:20250206T203615Z
LAST-MODIFIED:20250407T074220Z
UID:10384-1745107200-1745279999@looklively.app
SUMMARY:Charley Bell I’m a Swiftie Family Day at The Blackmill Bar & Kitchen
DESCRIPTION:SUNDAY 20TH APRIL – Charley Bell I’m a Swiftie Family Day! A Taylor Swift-inspired fun-filled day for families\, kids & Swifties alike! Charley Bell’s I’m a Swiftie Show – Sing along to all the hits!Easter Egg Hunt – Fun for the little ones!Family-friendly vibes all afternoonFree entry!
URL:https://looklively.app/event/charley-bell-im-a-swiftie-family-day-at-the-blackmill-bar-kitchen/
LOCATION:The Blackmill Bar & Kitchen\, 193 Carronshore Rd\, Carron\, Falkirk FK2 8ES\, FK2 8ES\, United Kingdom
ATTACH;FMTTYPE=image/png:https://looklively.app/wp-content/uploads/2025/02/EVENT-POST-PHOTO-59.png
END:VEVENT
END:VCALENDAR