BEGIN:VCALENDAR
VERSION:2.0
PRODID:-//Look Lively - ECPv6.15.11//NONSGML v1.0//EN
CALSCALE:GREGORIAN
METHOD:PUBLISH
X-WR-CALNAME:Look Lively
X-ORIGINAL-URL:https://looklively.app
X-WR-CALDESC:Events for Look Lively
REFRESH-INTERVAL;VALUE=DURATION:PT1H
X-Robots-Tag:noindex
X-PUBLISHED-TTL:PT1H
BEGIN:VTIMEZONE
TZID:Europe/London
BEGIN:DAYLIGHT
TZOFFSETFROM:+0000
TZOFFSETTO:+0100
TZNAME:BST
DTSTART:20240331T010000
END:DAYLIGHT
BEGIN:STANDARD
TZOFFSETFROM:+0100
TZOFFSETTO:+0000
TZNAME:GMT
DTSTART:20241027T010000
END:STANDARD
BEGIN:DAYLIGHT
TZOFFSETFROM:+0000
TZOFFSETTO:+0100
TZNAME:BST
DTSTART:20250330T010000
END:DAYLIGHT
BEGIN:STANDARD
TZOFFSETFROM:+0100
TZOFFSETTO:+0000
TZNAME:GMT
DTSTART:20251026T010000
END:STANDARD
BEGIN:DAYLIGHT
TZOFFSETFROM:+0000
TZOFFSETTO:+0100
TZNAME:BST
DTSTART:20260329T010000
END:DAYLIGHT
BEGIN:STANDARD
TZOFFSETFROM:+0100
TZOFFSETTO:+0000
TZNAME:GMT
DTSTART:20261025T010000
END:STANDARD
END:VTIMEZONE
BEGIN:VEVENT
DTSTART;VALUE=DATE:20250818
DTEND;VALUE=DATE:20250819
DTSTAMP:20260423T172327
CREATED:20250328T091950Z
LAST-MODIFIED:20250606T141120Z
UID:13542-1755475200-1755561599@looklively.app
SUMMARY:Chicago
DESCRIPTION:“Murder\, greed\, corruption\, exploitation\, adultery and treachery…all those things we hold near and dear to our hearts” So begins the international multi-award-winning musical\, CHICAGO.Set amidst the razzle-dazzle decadence of the 1920s\, CHICAGO is the story of Roxie Hart\, a housewife and nightclub dancer who murders her on-the-side lover after he threatens to walk out on her. Desperate to avoid conviction\, she dupes the public\, the media and her rival cellmate\, Velma Kelly\, by hiring Chicago’s slickest criminal lawyer to transform her malicious crime into a barrage of sensational headlines\, the likes of which might just as easily be ripped from today’s tabloids.Created by the musical theatre talents of John Kander\, Fred Ebb and legendary choreographer Bob Fosse\, CHICAGO’s sexy\, sassy score with one show-stopping song after another includes “Razzle Dazzle”\, “Cell Block Tango”\, and “All That Jazz”.Don’t miss out\, book now! It would be criminal to miss it…*Cast and performance schedule is subject to change without notice. Perfomances nightly from 7.30PM.
URL:https://looklively.app/event/chicago/
LOCATION:King’s Theatre\, Glasgow\, 297 Bath St\, Glasgow\, G2 4JN\, United Kingdom
CATEGORIES:Glasgow
ATTACH;FMTTYPE=image/jpeg:https://looklively.app/wp-content/uploads/2025/03/Chicago_Generic_Prod_1920x1080-tuYgQU.tmp_.jpg
END:VEVENT
END:VCALENDAR