BEGIN:VCALENDAR
VERSION:2.0
PRODID:-//Look Lively - ECPv6.15.11//NONSGML v1.0//EN
CALSCALE:GREGORIAN
METHOD:PUBLISH
X-WR-CALNAME:Look Lively
X-ORIGINAL-URL:https://looklively.app
X-WR-CALDESC:Events for Look Lively
REFRESH-INTERVAL;VALUE=DURATION:PT1H
X-Robots-Tag:noindex
X-PUBLISHED-TTL:PT1H
BEGIN:VTIMEZONE
TZID:Europe/London
BEGIN:DAYLIGHT
TZOFFSETFROM:+0000
TZOFFSETTO:+0100
TZNAME:BST
DTSTART:20240331T010000
END:DAYLIGHT
BEGIN:STANDARD
TZOFFSETFROM:+0100
TZOFFSETTO:+0000
TZNAME:GMT
DTSTART:20241027T010000
END:STANDARD
BEGIN:DAYLIGHT
TZOFFSETFROM:+0000
TZOFFSETTO:+0100
TZNAME:BST
DTSTART:20250330T010000
END:DAYLIGHT
BEGIN:STANDARD
TZOFFSETFROM:+0100
TZOFFSETTO:+0000
TZNAME:GMT
DTSTART:20251026T010000
END:STANDARD
BEGIN:DAYLIGHT
TZOFFSETFROM:+0000
TZOFFSETTO:+0100
TZNAME:BST
DTSTART:20260329T010000
END:DAYLIGHT
BEGIN:STANDARD
TZOFFSETFROM:+0100
TZOFFSETTO:+0000
TZNAME:GMT
DTSTART:20261025T010000
END:STANDARD
END:VTIMEZONE
BEGIN:VEVENT
DTSTART;VALUE=DATE:20250923
DTEND;VALUE=DATE:20250924
DTSTAMP:20260424T144448
CREATED:20250328T092821Z
LAST-MODIFIED:20250606T141734Z
UID:13547-1758585600-1758671999@looklively.app
SUMMARY:Chris McCausland: Yonks!
DESCRIPTION:You might have seen him on Strictly Come Dancing\, Would I Lie to You\, Have I Got News for You\, The Royal Variety\, QI\, Blankety Blank\, The Last Leg\, and tons more as well.He’s been called an “overnight success” – Even though he’s been doing this for bloody yonks!Chris McCausland is hitting the road again with another masterclass in stand-up comedy that has literally been yonks in the making\, so get your tickets now! Perfomance starts from 8.00PM.
URL:https://looklively.app/event/chris-mccausland-yonks/
LOCATION:Theatre Royal Glasgow\, 282 Hope St\, Glasgow\, G2 3QA\, United Kingdom
CATEGORIES:Glasgow
ATTACH;FMTTYPE=image/png:https://looklively.app/wp-content/uploads/2025/03/ChrisMcCausland_Yonks_Prod2_1920x1080-KiRefF.tmp_.png
END:VEVENT
END:VCALENDAR