BEGIN:VCALENDAR
VERSION:2.0
PRODID:-//Look Lively - ECPv6.15.11//NONSGML v1.0//EN
CALSCALE:GREGORIAN
METHOD:PUBLISH
X-WR-CALNAME:Look Lively
X-ORIGINAL-URL:https://looklively.app
X-WR-CALDESC:Events for Look Lively
REFRESH-INTERVAL;VALUE=DURATION:PT1H
X-Robots-Tag:noindex
X-PUBLISHED-TTL:PT1H
BEGIN:VTIMEZONE
TZID:Europe/London
BEGIN:DAYLIGHT
TZOFFSETFROM:+0000
TZOFFSETTO:+0100
TZNAME:BST
DTSTART:20240331T010000
END:DAYLIGHT
BEGIN:STANDARD
TZOFFSETFROM:+0100
TZOFFSETTO:+0000
TZNAME:GMT
DTSTART:20241027T010000
END:STANDARD
BEGIN:DAYLIGHT
TZOFFSETFROM:+0000
TZOFFSETTO:+0100
TZNAME:BST
DTSTART:20250330T010000
END:DAYLIGHT
BEGIN:STANDARD
TZOFFSETFROM:+0100
TZOFFSETTO:+0000
TZNAME:GMT
DTSTART:20251026T010000
END:STANDARD
BEGIN:DAYLIGHT
TZOFFSETFROM:+0000
TZOFFSETTO:+0100
TZNAME:BST
DTSTART:20260329T010000
END:DAYLIGHT
BEGIN:STANDARD
TZOFFSETFROM:+0100
TZOFFSETTO:+0000
TZNAME:GMT
DTSTART:20261025T010000
END:STANDARD
END:VTIMEZONE
BEGIN:VEVENT
DTSTART;VALUE=DATE:20250418
DTEND;VALUE=DATE:20251101
DTSTAMP:20260423T105640
CREATED:20250403T094250Z
LAST-MODIFIED:20250615T103710Z
UID:14458-1744934400-1761955199@looklively.app
SUMMARY:Comedy Drag Show in Glasgow
DESCRIPTION: Gift this experience to your loved ones! Click here to check out our gift card\n­ Prepare for a night of glamour\, laughter\, and fabulous entertainment at the Comedy Drag Show featuring Glasgow €™s finest Diva\, Barbra LaBush! Enjoy a two-course meal\, a glass of fizz\, and a saucy drag performance Highlights ¤ Sassy comedy and dazzling performances by the sensational Barbra LaBush and supporting acts 🍴 Indulge in a delicious 2-course meal with a glass of fizz on arrival ‰ Free entry to the nightclub after the show to dance the night away until 3:00 AM 💃 A perfect evening of entertainment\, humor\, and fun in the heart of Merchant City General Info 📅 Date: Choose from the ticket selector 🕒 Doors open at 7:15 PM ° Show starting promptly at 7:30 PM 📍 Location: Arta 👤 Age Requirement: 18+ with valid ID Ÿ️ Tickets: Include show entry\, a 2-course meal\, and a glass of fizz Description Glasgow €™s iconic Diva\, Barbra LaBush\, returns to Arta for her third year of unforgettable performances! Known for her quick wit\, sassy humor\, and captivating stage presence\, Barbra promises a night filled with laughter\, music\, and fabulous entertainment\nYour evening begins with a glass of fizz on arrival\, followed by a mouthwatering two-course meal\nAs Barbra and her supporting acts take the stage\, prepare to laugh\, sing\, and dance the night away\nAfter the show\, the party continues with free entry to Arta €™s nightclub\, where you can keep the energy alive until 3:00 AM
URL:https://looklively.app/event/comedy-drag-show-in-glasgow/
LOCATION:ARTA\, 62 Albion Street\, Glasgow\, G1 1PA\, United Kingdom
CATEGORIES:Glasgow,Glasgow - Merchant City
ATTACH;FMTTYPE=image/jpeg:https://looklively.app/wp-content/uploads/2025/04/346a0be8-c9df-11ef-ada8-da5a95fe223f-nDhwbP.tmp_.jpg
END:VEVENT
END:VCALENDAR