BEGIN:VCALENDAR
VERSION:2.0
PRODID:-//Look Lively - ECPv6.15.11//NONSGML v1.0//EN
CALSCALE:GREGORIAN
METHOD:PUBLISH
X-WR-CALNAME:Look Lively
X-ORIGINAL-URL:https://looklively.app
X-WR-CALDESC:Events for Look Lively
REFRESH-INTERVAL;VALUE=DURATION:PT1H
X-Robots-Tag:noindex
X-PUBLISHED-TTL:PT1H
BEGIN:VTIMEZONE
TZID:Europe/London
BEGIN:DAYLIGHT
TZOFFSETFROM:+0000
TZOFFSETTO:+0100
TZNAME:BST
DTSTART:20240331T010000
END:DAYLIGHT
BEGIN:STANDARD
TZOFFSETFROM:+0100
TZOFFSETTO:+0000
TZNAME:GMT
DTSTART:20241027T010000
END:STANDARD
BEGIN:DAYLIGHT
TZOFFSETFROM:+0000
TZOFFSETTO:+0100
TZNAME:BST
DTSTART:20250330T010000
END:DAYLIGHT
BEGIN:STANDARD
TZOFFSETFROM:+0100
TZOFFSETTO:+0000
TZNAME:GMT
DTSTART:20251026T010000
END:STANDARD
BEGIN:DAYLIGHT
TZOFFSETFROM:+0000
TZOFFSETTO:+0100
TZNAME:BST
DTSTART:20260329T010000
END:DAYLIGHT
BEGIN:STANDARD
TZOFFSETFROM:+0100
TZOFFSETTO:+0000
TZNAME:GMT
DTSTART:20261025T010000
END:STANDARD
END:VTIMEZONE
BEGIN:VEVENT
DTSTART;VALUE=DATE:20250701
DTEND;VALUE=DATE:20250706
DTSTAMP:20260425T004855
CREATED:20250328T092011Z
LAST-MODIFIED:20250606T135305Z
UID:13556-1751328000-1751759999@looklively.app
SUMMARY:Dear Evan Hansen
DESCRIPTION:THE OLIVIER\, TONY® & GRAMMY® AWARD-WINNING BEST MUSICALMeet Evan: an anxious high school kid who wants nothing more than to fit in. The thing is\, on his way to fitting in\, he didn’t tell the whole truth. And now must give up on a life he never dreamt he’d have. As events spiral and the truth comes out\, Evan faces a reckoning with himself and everyone around him.Packed with some of the biggest musical theatre songs of the last decade\, Dear Evan Hansen has a score by Benj Pasek and Justin Paul (Oscar-winning composers for The Greatest Showman)\, book by Steven Levenson and more awards than can be listed here. Well ok\, we’ll mention a few: its Tony® Award for BEST MUSICAL\, Olivier Award for BEST NEW MUSICAL\, Grammy® Award for BEST MUSICAL THEATER SCORE…no big deal but the list goes on!With direction by Adam Penford (Artistic Director at Nottingham Playhouse)\, this brand-new production marks the first time that the Broadway and West End phenomenon will tour the UK & Ireland. So wherever you are\, #YouWillBeFound\, with the Dear Evan Hansen tour coming to a theatre near you from Autumn 2024.Book by Steven LevensonMusic and Lyrics by Benj Pasek & Justin Paul. Perfomances nightly from 7.30PM.
URL:https://looklively.app/event/dear-evan-hansen/
LOCATION:Edinburgh Playhouse\, 18-22 Greenside Pl\, Edinburgh\, EH1 3AA\, United Kingdom
CATEGORIES:Edinburgh
ATTACH;FMTTYPE=image/jpeg:https://looklively.app/wp-content/uploads/2025/03/DearEvanHansen_Prod_1920x1080-dB7AEt.tmp_.jpg
END:VEVENT
END:VCALENDAR