BEGIN:VCALENDAR
VERSION:2.0
PRODID:-//Look Lively - ECPv6.15.11//NONSGML v1.0//EN
CALSCALE:GREGORIAN
METHOD:PUBLISH
X-WR-CALNAME:Look Lively
X-ORIGINAL-URL:https://looklively.app
X-WR-CALDESC:Events for Look Lively
REFRESH-INTERVAL;VALUE=DURATION:PT1H
X-Robots-Tag:noindex
X-PUBLISHED-TTL:PT1H
BEGIN:VTIMEZONE
TZID:Europe/London
BEGIN:DAYLIGHT
TZOFFSETFROM:+0000
TZOFFSETTO:+0100
TZNAME:BST
DTSTART:20240331T010000
END:DAYLIGHT
BEGIN:STANDARD
TZOFFSETFROM:+0100
TZOFFSETTO:+0000
TZNAME:GMT
DTSTART:20241027T010000
END:STANDARD
BEGIN:DAYLIGHT
TZOFFSETFROM:+0000
TZOFFSETTO:+0100
TZNAME:BST
DTSTART:20250330T010000
END:DAYLIGHT
BEGIN:STANDARD
TZOFFSETFROM:+0100
TZOFFSETTO:+0000
TZNAME:GMT
DTSTART:20251026T010000
END:STANDARD
BEGIN:DAYLIGHT
TZOFFSETFROM:+0000
TZOFFSETTO:+0100
TZNAME:BST
DTSTART:20260329T010000
END:DAYLIGHT
BEGIN:STANDARD
TZOFFSETFROM:+0100
TZOFFSETTO:+0000
TZNAME:GMT
DTSTART:20261025T010000
END:STANDARD
END:VTIMEZONE
BEGIN:VEVENT
DTSTART;VALUE=DATE:20250204
DTEND;VALUE=DATE:20250402
DTSTAMP:20260419T203436
CREATED:20250204T125411Z
LAST-MODIFIED:20250321T062023Z
UID:10282-1738627200-1743551999@looklively.app
SUMMARY:Delicious Cajun Chicken at The Courtyard
DESCRIPTION:The Courtyard – Delicious Cajun Chicken Our Cajun Chicken is a crowd favorite\, and now’s your chance to enjoy it as part of our amazing set menu! 2 Courses – Only £13.943 Courses – Just £16.95 Perfect for a midweek treat\, date night\, or dinner with friends! The Courtyard – Great Food\, Great AtmosphereBook your table today!
URL:https://looklively.app/event/delicious-cajun-chicken-at-the-courtyard/
LOCATION:The Courtyard\, 23 Baxter's Wynd\, Falkirk\, FK1 1PF\, United Kingdom
ATTACH;FMTTYPE=image/png:https://looklively.app/wp-content/uploads/2025/02/EVENT-POST-PHOTO-49.png
END:VEVENT
END:VCALENDAR