BEGIN:VCALENDAR
VERSION:2.0
PRODID:-//Look Lively - ECPv6.15.11//NONSGML v1.0//EN
CALSCALE:GREGORIAN
METHOD:PUBLISH
X-WR-CALNAME:Look Lively
X-ORIGINAL-URL:https://looklively.app
X-WR-CALDESC:Events for Look Lively
REFRESH-INTERVAL;VALUE=DURATION:PT1H
X-Robots-Tag:noindex
X-PUBLISHED-TTL:PT1H
BEGIN:VTIMEZONE
TZID:Europe/London
BEGIN:DAYLIGHT
TZOFFSETFROM:+0000
TZOFFSETTO:+0100
TZNAME:BST
DTSTART:20240331T010000
END:DAYLIGHT
BEGIN:STANDARD
TZOFFSETFROM:+0100
TZOFFSETTO:+0000
TZNAME:GMT
DTSTART:20241027T010000
END:STANDARD
BEGIN:DAYLIGHT
TZOFFSETFROM:+0000
TZOFFSETTO:+0100
TZNAME:BST
DTSTART:20250330T010000
END:DAYLIGHT
BEGIN:STANDARD
TZOFFSETFROM:+0100
TZOFFSETTO:+0000
TZNAME:GMT
DTSTART:20251026T010000
END:STANDARD
BEGIN:DAYLIGHT
TZOFFSETFROM:+0000
TZOFFSETTO:+0100
TZNAME:BST
DTSTART:20260329T010000
END:DAYLIGHT
BEGIN:STANDARD
TZOFFSETFROM:+0100
TZOFFSETTO:+0000
TZNAME:GMT
DTSTART:20261025T010000
END:STANDARD
END:VTIMEZONE
BEGIN:VEVENT
DTSTART;VALUE=DATE:20250205
DTEND;VALUE=DATE:20250502
DTSTAMP:20260419T183704
CREATED:20250205T201249Z
LAST-MODIFIED:20250321T062045Z
UID:10302-1738713600-1746143999@looklively.app
SUMMARY:Delicious Vegetarian Haggis Nachos at The Blackmill Bar & Kitchen
DESCRIPTION:Delicious Vegetarian Haggis Nachos  Crispy\, hearty\, and packed with flavour—our Vegetarian Haggis Nachos are a must-try!Topped with vegan cheese\, salsa\, and sour cream\, they’re the perfect plant-based indulgence. Have you checked out our Vegan & Vegetarian menu yet? Available 7 days a week! Book now: www.blackmillbar.co.uk
URL:https://looklively.app/event/delicious-vegetarian-haggis-nachos-at-the-blackmill-bar-kitchen/
LOCATION:The Blackmill Bar & Kitchen\, 193 Carronshore Rd\, Carron\, Falkirk FK2 8ES\, FK2 8ES\, United Kingdom
ATTACH;FMTTYPE=image/png:https://looklively.app/wp-content/uploads/2025/02/EVENT-POST-PHOTO-52.png
END:VEVENT
END:VCALENDAR