BEGIN:VCALENDAR
VERSION:2.0
PRODID:-//Look Lively - ECPv6.15.11//NONSGML v1.0//EN
CALSCALE:GREGORIAN
METHOD:PUBLISH
X-WR-CALNAME:Look Lively
X-ORIGINAL-URL:https://looklively.app
X-WR-CALDESC:Events for Look Lively
REFRESH-INTERVAL;VALUE=DURATION:PT1H
X-Robots-Tag:noindex
X-PUBLISHED-TTL:PT1H
BEGIN:VTIMEZONE
TZID:Europe/London
BEGIN:DAYLIGHT
TZOFFSETFROM:+0000
TZOFFSETTO:+0100
TZNAME:BST
DTSTART:20240331T010000
END:DAYLIGHT
BEGIN:STANDARD
TZOFFSETFROM:+0100
TZOFFSETTO:+0000
TZNAME:GMT
DTSTART:20241027T010000
END:STANDARD
BEGIN:DAYLIGHT
TZOFFSETFROM:+0000
TZOFFSETTO:+0100
TZNAME:BST
DTSTART:20250330T010000
END:DAYLIGHT
BEGIN:STANDARD
TZOFFSETFROM:+0100
TZOFFSETTO:+0000
TZNAME:GMT
DTSTART:20251026T010000
END:STANDARD
BEGIN:DAYLIGHT
TZOFFSETFROM:+0000
TZOFFSETTO:+0100
TZNAME:BST
DTSTART:20260329T010000
END:DAYLIGHT
BEGIN:STANDARD
TZOFFSETFROM:+0100
TZOFFSETTO:+0000
TZNAME:GMT
DTSTART:20261025T010000
END:STANDARD
END:VTIMEZONE
BEGIN:VEVENT
DTSTART;VALUE=DATE:20250402
DTEND;VALUE=DATE:20250526
DTSTAMP:20260422T150030
CREATED:20250402T190935Z
LAST-MODIFIED:20250402T190935Z
UID:14224-1743552000-1748217599@looklively.app
SUMMARY:Doomed Dead & Buried Guided Tour
DESCRIPTION:Doomed Dead & Buried Guided Tour guarantees sleepless nights with its creepy ghost tour of Edinburgh’s spookiest spots\nTicket types 🎫 Concession (with ID) 🎫 Adult (18-64) Highlights 🔍 Discover the Canongate Kirkyard and pay a visit to the burial sites of renowned individuals\, such as Adam Smith\, the founder of economics 🌡️ See if you sense a shift as you explore the progressively smaller chambers within the eerie Blair Street Underground Vaults 👻 Listen to spine-chilling stories of wicked acts and supernatural apparitions in Edinburgh’s most captivating spots General Info 📅 Dates: select your dates directly in the ticket selector 🕒 Time: 18:30 p.m\n⏳ Duration: 1h 45mins 📍 Meeting point:Mercat Cross\, High Street\, EH1 1RF\, Edinburgh 👤 Age requirement: +18 ❓ For this event\, all sales are final and tickets can’t be refunded\, changed or modified\nFor more information\, please refer to our T&Cs Description Get ready for the creepiest ghost tour in Edinburgh! Step into the spine-chilling Blair Street Underground Vaults and Canongate Kirkyard as you embark on this thrilling adventure\nFeel the presence of famous spirits as their stories unfold before your eyes\nDiscover the resting places of renowned figures and brace yourself for an unforgettable experience! Prepare for bone-chilling temperatures and dare to witness dastardly deeds\nGet ready for sleepless nights and a tour that will leave you in awe!
URL:https://looklively.app/event/doomed-dead-buried-guided-tour/
LOCATION:Blair Street Underground Vaults\, 28 Blair St\, Edinburgh\, EH1 1QR\, United Kingdom
ATTACH;FMTTYPE=image/jpeg:https://looklively.app/wp-content/uploads/2025/04/8f05ef8e-1f15-11ee-9869-9ab0a6633cf0-aLyuEr.tmp_.jpg
END:VEVENT
END:VCALENDAR