BEGIN:VCALENDAR
VERSION:2.0
PRODID:-//Look Lively - ECPv6.15.11//NONSGML v1.0//EN
CALSCALE:GREGORIAN
METHOD:PUBLISH
X-WR-CALNAME:Look Lively
X-ORIGINAL-URL:https://looklively.app
X-WR-CALDESC:Events for Look Lively
REFRESH-INTERVAL;VALUE=DURATION:PT1H
X-Robots-Tag:noindex
X-PUBLISHED-TTL:PT1H
BEGIN:VTIMEZONE
TZID:Europe/London
BEGIN:DAYLIGHT
TZOFFSETFROM:+0000
TZOFFSETTO:+0100
TZNAME:BST
DTSTART:20240331T010000
END:DAYLIGHT
BEGIN:STANDARD
TZOFFSETFROM:+0100
TZOFFSETTO:+0000
TZNAME:GMT
DTSTART:20241027T010000
END:STANDARD
BEGIN:DAYLIGHT
TZOFFSETFROM:+0000
TZOFFSETTO:+0100
TZNAME:BST
DTSTART:20250330T010000
END:DAYLIGHT
BEGIN:STANDARD
TZOFFSETFROM:+0100
TZOFFSETTO:+0000
TZNAME:GMT
DTSTART:20251026T010000
END:STANDARD
BEGIN:DAYLIGHT
TZOFFSETFROM:+0000
TZOFFSETTO:+0100
TZNAME:BST
DTSTART:20260329T010000
END:DAYLIGHT
BEGIN:STANDARD
TZOFFSETFROM:+0100
TZOFFSETTO:+0000
TZNAME:GMT
DTSTART:20261025T010000
END:STANDARD
END:VTIMEZONE
BEGIN:VEVENT
DTSTART;TZID=Europe/London:20250308T180000
DTEND;TZID=Europe/London:20250308T193000
DTSTAMP:20260421T181547
CREATED:20250225T201144Z
LAST-MODIFIED:20250225T201206Z
UID:11118-1741456800-1741462200@looklively.app
SUMMARY:Early Evening Live Session with Sarah M at The Scotia
DESCRIPTION:Join us for a fantastic early evening live session at The Scotia on Saturday\, March 8th\, featuring the incredible Sarah M! Date: Saturday\, March 8thTime: 6:00 PM – 7:30 PMVenue: The Scotia Ease into your Saturday night with an amazing live performance from the talented Sarah M. With her soulful vocals\, acoustic charm\, and captivating stage presence\, Sarah brings a mix of classic favorites\, modern hits\, and heartfelt originals that will have you singing along. Whether you’re stopping by for a pre-dinner drink\, gearing up for a big night out\, or just love great live music\, this intimate and relaxed session is the perfect way to start your Saturday evening. Live acoustic set with a fantastic atmosphere No tickets needed – just turn up and enjoy the music! Make sure you get down early to grab a good spot\, sit back\, relax\, and let the music set the tone for an incredible Saturday night!
URL:https://looklively.app/event/early-evening-live-session-with-sarah-m-at-the-scotia/
LOCATION:The Scotia\, 51 Manor St\, Falkirk\, FK1 1NH\, United Kingdom
ATTACH;FMTTYPE=image/png:https://looklively.app/wp-content/uploads/2025/02/EVENT-POST-PHOTO-88.png
END:VEVENT
END:VCALENDAR