BEGIN:VCALENDAR
VERSION:2.0
PRODID:-//Look Lively - ECPv6.15.11//NONSGML v1.0//EN
CALSCALE:GREGORIAN
METHOD:PUBLISH
X-WR-CALNAME:Look Lively
X-ORIGINAL-URL:https://looklively.app
X-WR-CALDESC:Events for Look Lively
REFRESH-INTERVAL;VALUE=DURATION:PT1H
X-Robots-Tag:noindex
X-PUBLISHED-TTL:PT1H
BEGIN:VTIMEZONE
TZID:Europe/London
BEGIN:DAYLIGHT
TZOFFSETFROM:+0000
TZOFFSETTO:+0100
TZNAME:BST
DTSTART:20240331T010000
END:DAYLIGHT
BEGIN:STANDARD
TZOFFSETFROM:+0100
TZOFFSETTO:+0000
TZNAME:GMT
DTSTART:20241027T010000
END:STANDARD
BEGIN:DAYLIGHT
TZOFFSETFROM:+0000
TZOFFSETTO:+0100
TZNAME:BST
DTSTART:20250330T010000
END:DAYLIGHT
BEGIN:STANDARD
TZOFFSETFROM:+0100
TZOFFSETTO:+0000
TZNAME:GMT
DTSTART:20251026T010000
END:STANDARD
BEGIN:DAYLIGHT
TZOFFSETFROM:+0000
TZOFFSETTO:+0100
TZNAME:BST
DTSTART:20260329T010000
END:DAYLIGHT
BEGIN:STANDARD
TZOFFSETFROM:+0100
TZOFFSETTO:+0000
TZNAME:GMT
DTSTART:20261025T010000
END:STANDARD
END:VTIMEZONE
BEGIN:VEVENT
DTSTART;VALUE=DATE:20250402
DTEND;VALUE=DATE:20250526
DTSTAMP:20260422T150103
CREATED:20250402T190533Z
LAST-MODIFIED:20250606T130228Z
UID:14186-1743552000-1748217599@looklively.app
SUMMARY:Edinburgh Afternoon Tea or Gin Afternoon Tea Experience
DESCRIPTION:Edinburgh Afternoon Tea or Gin Afternoon Tea Experience offers a unique and enjoyable experience of cruising around Edinburgh while indulging in afternoon tea and alcoholic beverages\nTickets for Edinburgh Afternoon Tea or Gin Afternoon Tea Experience 🎫 Teenager (10+) Afternoon Tea -Full afternoon tea\, a glass of prosecco\, unlimited tea & coffee 🎫 Adult (18+) Gin Tea – includes all of the above\, and an extra gin cocktail Highlights 🚌 Hop onto a vintage double-decker bus and channel your inner Brit 🇬🇧 while you patiently await tea and scones 🍵 Indulge in tea \, coffee \, and prosecco as you cruise through Edinburgh and savor petits fours and sandwiches 🍸 Unwind further with a gin pot-tail – Scottish teapots serve multiple roles! 󠁧󠁢󠁳 General Info 📍 Location: St Andrew Square\, EH2 2AD\, Edinburgh 📅 Dates and times: select your dates/times directly in the ticket selector ⏳ Duration: 90 mins 👤 Age requirement: all ages are welcome ♿ Accessibility: this venue is wheelchair accessible ❓ For this event\, all sales are final and tickets can’t be refunded\, changed or modified\nFor more information\, please refer to our T&Cs Description Get ready to embark on an extraordinary journey aboard a vintage double-decker bus that will transport you straight to British glory! The moment you step in\, you’ll be immersed in pure nostalgia\, eagerly awaiting the delightful treat of tea and scones\nBut hold on\, it gets even better! Picture yourself sipping on heavenly tea\, aromatic coffee\, and enchanting prosecco while cruising through the magnificent sights of Edinburgh\nCan you believe it? Delectable petit fours and scrumptious sandwiches will make this experience even more heavenly\nOh\, and here’s the cherry on top: you can even spoil yourself with a tantalizing gin pot-tail! What are you waiting for? Get your tickets forEdinburgh Afternoon Tea or Gin Afternoon Tea Experience!
URL:https://looklively.app/event/edinburgh-afternoon-tea-or-gin-afternoon-tea-experience/
LOCATION:The Ivy On The Square Edinburgh\, 6 St Andrew Square\, Edinburgh\, EH2 2BD\, United Kingdom
CATEGORIES:Edinburgh
ATTACH;FMTTYPE=image/jpeg:https://looklively.app/wp-content/uploads/2025/04/bcc09fc4-1f14-11ee-bea7-86995fd6abcf-angioK.tmp_.jpg
END:VEVENT
END:VCALENDAR