BEGIN:VCALENDAR
VERSION:2.0
PRODID:-//Look Lively - ECPv6.15.11//NONSGML v1.0//EN
CALSCALE:GREGORIAN
METHOD:PUBLISH
X-WR-CALNAME:Look Lively
X-ORIGINAL-URL:https://looklively.app
X-WR-CALDESC:Events for Look Lively
REFRESH-INTERVAL;VALUE=DURATION:PT1H
X-Robots-Tag:noindex
X-PUBLISHED-TTL:PT1H
BEGIN:VTIMEZONE
TZID:Europe/London
BEGIN:DAYLIGHT
TZOFFSETFROM:+0000
TZOFFSETTO:+0100
TZNAME:BST
DTSTART:20240331T010000
END:DAYLIGHT
BEGIN:STANDARD
TZOFFSETFROM:+0100
TZOFFSETTO:+0000
TZNAME:GMT
DTSTART:20241027T010000
END:STANDARD
BEGIN:DAYLIGHT
TZOFFSETFROM:+0000
TZOFFSETTO:+0100
TZNAME:BST
DTSTART:20250330T010000
END:DAYLIGHT
BEGIN:STANDARD
TZOFFSETFROM:+0100
TZOFFSETTO:+0000
TZNAME:GMT
DTSTART:20251026T010000
END:STANDARD
BEGIN:DAYLIGHT
TZOFFSETFROM:+0000
TZOFFSETTO:+0100
TZNAME:BST
DTSTART:20260329T010000
END:DAYLIGHT
BEGIN:STANDARD
TZOFFSETFROM:+0100
TZOFFSETTO:+0000
TZNAME:GMT
DTSTART:20261025T010000
END:STANDARD
END:VTIMEZONE
BEGIN:VEVENT
DTSTART;VALUE=DATE:20250402
DTEND;VALUE=DATE:20250410
DTSTAMP:20260420T011110
CREATED:20250403T094237Z
LAST-MODIFIED:20250606T131658Z
UID:14419-1743552000-1744243199@looklively.app
SUMMARY:Enlightenment: An Immersive Light Show - Glasgow
DESCRIPTION:­ With over 1.5 million visitors worldwide \, Eonarium presents Enlightenment ! Watch the iconic Merchants House of Glasgow come alive with Enlightenment \, a spectacular sound and light show\nSet to the enchanting melodies of Vivaldi €™s  €˜The Four Seasons €™\, mesmerising visual projections will take you on an extraordinary journey through spring\, summer\, autumn\, and winter\n🚨Final tickets available! Don ´t miss your chance\, book now!🚨 👉  For  school visits \,  educational  and  senior groups (15+ people)  reserve your tickets  here \, and for  groups of 15+ people \, reserve your tickets  here Highlights  ˜€️ A breathtaking audiovisual show exploring spring\, summer\, autumn\, and winter  » Set to the enchanting melodies of Vivaldi €™s  €˜The Four Seasons €™ 🌟 Cutting-edge video-mapping technology 🤩 Located at the iconic Merchants House of Glasgow  💫 A magical experience to be enjoyed with friends and family   Gift memories to someone special! Purchase a gift card for Enlightenment: An Immersive Light Show – Glasgow here General Info 📅 Dates and times: select your date & time directly in the ticket selector  ³ Duration: 30 minutes  📍 Location: Merchants House of Glasgow 👤 Age requirement: all ages are welcome!  ™¿ Accessibility: Due to the unique layout of the building\, the lift may not be suitable for most wheelchairs\nThe internal dimensions of the lift are 1.21m deep and 58.3cm wide €”this may not be suitable for electric wheelchairs and some manual wheelchairs\nPlease see FAQs for more details.   “ Please consult the FAQs of this experience here Description Following huge success in Zurich\, Lyon\, and Liverpool\, Enlightenment has arrived in Glasgow! Art and technology come together in this dazzling 30-minute spectacle\, filling the historic Merchants House of Glasgow with breathtaking music and images\nAs you listen to the enchanting melodies of Vivaldi €™s  €˜The Four Seasons €™\, reorchestrated especially for the occasion\, mesmerizing visual projections will take you on a fascinating journey through spring\, summer\, autumn\, and winter\nUtterly spellbinding\, Enlightenment is an abstract homage to the cycle of life\, culminating in a spectacular\, illuminating finale
URL:https://looklively.app/event/enlightenment-an-immersive-light-show-glasgow/
LOCATION:Merchants House of Glasgow\, Grand Hall\, 7 West George Street\, Glasgow\, G2 1BA\, United Kingdom
CATEGORIES:Glasgow
ATTACH;FMTTYPE=image/jpeg:https://looklively.app/wp-content/uploads/2025/04/6bff0a76-a659-11ef-a66d-86a28612731b-uRTYW2.tmp_.jpg
END:VEVENT
END:VCALENDAR