BEGIN:VCALENDAR
VERSION:2.0
PRODID:-//Look Lively - ECPv6.15.11//NONSGML v1.0//EN
CALSCALE:GREGORIAN
METHOD:PUBLISH
X-WR-CALNAME:Look Lively
X-ORIGINAL-URL:https://looklively.app
X-WR-CALDESC:Events for Look Lively
REFRESH-INTERVAL;VALUE=DURATION:PT1H
X-Robots-Tag:noindex
X-PUBLISHED-TTL:PT1H
BEGIN:VTIMEZONE
TZID:Europe/London
BEGIN:DAYLIGHT
TZOFFSETFROM:+0000
TZOFFSETTO:+0100
TZNAME:BST
DTSTART:20240331T010000
END:DAYLIGHT
BEGIN:STANDARD
TZOFFSETFROM:+0100
TZOFFSETTO:+0000
TZNAME:GMT
DTSTART:20241027T010000
END:STANDARD
BEGIN:DAYLIGHT
TZOFFSETFROM:+0000
TZOFFSETTO:+0100
TZNAME:BST
DTSTART:20250330T010000
END:DAYLIGHT
BEGIN:STANDARD
TZOFFSETFROM:+0100
TZOFFSETTO:+0000
TZNAME:GMT
DTSTART:20251026T010000
END:STANDARD
BEGIN:DAYLIGHT
TZOFFSETFROM:+0000
TZOFFSETTO:+0100
TZNAME:BST
DTSTART:20260329T010000
END:DAYLIGHT
BEGIN:STANDARD
TZOFFSETFROM:+0100
TZOFFSETTO:+0000
TZNAME:GMT
DTSTART:20261025T010000
END:STANDARD
END:VTIMEZONE
BEGIN:VEVENT
DTSTART;TZID=Europe/London:20250121T180000
DTEND;TZID=Europe/London:20250121T223000
DTSTAMP:20260419T192925
CREATED:20250121T143345Z
LAST-MODIFIED:20250121T143418Z
UID:9678-1737482400-1737498600@looklively.app
SUMMARY:EUFA Champions League at The Courtyard
DESCRIPTION:Join us for a night of Football at The Courtyard! Catch all the action on TNT sports & Discovery + Monaco V Aston Villa – 6PMAtlanta V Sturm Graz – 6.30PMChampions League Goals Show Xtra – 7.30PMAtletico Madrid V Leverkusen – 7.45PMBrugge V Juventus – 7.45PMBenfica V Barcelona – 8.00PMCologna V Dortmund – 8.00PMRed Star V PSV – 8.00PMSlovan Bratislava V Stuttgart – 8.00PM Where: The Courtyard\, FalkirkWhat’s on: Champion’s League matchesWhy Come: Great vibes\, big screens and plenty of drinks to keep the night exciting! Don’t miss the biggest games of the season. #thecourtyardfalkirk #eufachampionsleague # tntsports #livefootballfalkirk
URL:https://looklively.app/event/eufa-champions-league-at-the-courtyard/
LOCATION:The Courtyard\, 23 Baxter's Wynd\, Falkirk\, FK1 1PF\, United Kingdom
ATTACH;FMTTYPE=image/png:https://looklively.app/wp-content/uploads/2025/01/EVENT-POST-PHOTO-6.png
END:VEVENT
END:VCALENDAR