BEGIN:VCALENDAR
VERSION:2.0
PRODID:-//Look Lively - ECPv6.15.11//NONSGML v1.0//EN
CALSCALE:GREGORIAN
METHOD:PUBLISH
X-WR-CALNAME:Look Lively
X-ORIGINAL-URL:https://looklively.app
X-WR-CALDESC:Events for Look Lively
REFRESH-INTERVAL;VALUE=DURATION:PT1H
X-Robots-Tag:noindex
X-PUBLISHED-TTL:PT1H
BEGIN:VTIMEZONE
TZID:Europe/London
BEGIN:DAYLIGHT
TZOFFSETFROM:+0000
TZOFFSETTO:+0100
TZNAME:BST
DTSTART:20240331T010000
END:DAYLIGHT
BEGIN:STANDARD
TZOFFSETFROM:+0100
TZOFFSETTO:+0000
TZNAME:GMT
DTSTART:20241027T010000
END:STANDARD
BEGIN:DAYLIGHT
TZOFFSETFROM:+0000
TZOFFSETTO:+0100
TZNAME:BST
DTSTART:20250330T010000
END:DAYLIGHT
BEGIN:STANDARD
TZOFFSETFROM:+0100
TZOFFSETTO:+0000
TZNAME:GMT
DTSTART:20251026T010000
END:STANDARD
BEGIN:DAYLIGHT
TZOFFSETFROM:+0000
TZOFFSETTO:+0100
TZNAME:BST
DTSTART:20260329T010000
END:DAYLIGHT
BEGIN:STANDARD
TZOFFSETFROM:+0100
TZOFFSETTO:+0000
TZNAME:GMT
DTSTART:20261025T010000
END:STANDARD
END:VTIMEZONE
BEGIN:VEVENT
DTSTART;TZID=Europe/London:20250530T190000
DTEND;TZID=Europe/London:20250530T233000
DTSTAMP:20260426T003449
CREATED:20250425T094430Z
LAST-MODIFIED:20250425T094430Z
UID:15646-1748631600-1748647800@looklively.app
SUMMARY:Everybody Needs a Good Nite Oot - Slanj A Va
DESCRIPTION:30th May from 7pm til Late
URL:https://looklively.app/event/everybody-needs-a-good-nite-oot-slanj-a-va/
LOCATION:Slanj A Va\, 9 Upper Craigs\, Stirling\, FK8 2DG\, United Kingdom
ATTACH;FMTTYPE=image/jpeg:https://looklively.app/wp-content/uploads/2025/04/489578298_708706341490114_4788152834322387761_n.jpg
END:VEVENT
END:VCALENDAR