BEGIN:VCALENDAR
VERSION:2.0
PRODID:-//Look Lively - ECPv6.15.11//NONSGML v1.0//EN
CALSCALE:GREGORIAN
METHOD:PUBLISH
X-WR-CALNAME:Look Lively
X-ORIGINAL-URL:https://looklively.app
X-WR-CALDESC:Events for Look Lively
REFRESH-INTERVAL;VALUE=DURATION:PT1H
X-Robots-Tag:noindex
X-PUBLISHED-TTL:PT1H
BEGIN:VTIMEZONE
TZID:Europe/London
BEGIN:DAYLIGHT
TZOFFSETFROM:+0000
TZOFFSETTO:+0100
TZNAME:BST
DTSTART:20240331T010000
END:DAYLIGHT
BEGIN:STANDARD
TZOFFSETFROM:+0100
TZOFFSETTO:+0000
TZNAME:GMT
DTSTART:20241027T010000
END:STANDARD
BEGIN:DAYLIGHT
TZOFFSETFROM:+0000
TZOFFSETTO:+0100
TZNAME:BST
DTSTART:20250330T010000
END:DAYLIGHT
BEGIN:STANDARD
TZOFFSETFROM:+0100
TZOFFSETTO:+0000
TZNAME:GMT
DTSTART:20251026T010000
END:STANDARD
BEGIN:DAYLIGHT
TZOFFSETFROM:+0000
TZOFFSETTO:+0100
TZNAME:BST
DTSTART:20260329T010000
END:DAYLIGHT
BEGIN:STANDARD
TZOFFSETFROM:+0100
TZOFFSETTO:+0000
TZNAME:GMT
DTSTART:20261025T010000
END:STANDARD
END:VTIMEZONE
BEGIN:VEVENT
DTSTART;TZID=Europe/London:20250516T193000
DTEND;TZID=Europe/London:20250516T233000
DTSTAMP:20260419T203918
CREATED:20250408T072329Z
LAST-MODIFIED:20250606T114215Z
UID:15342-1747423800-1747438200@looklively.app
SUMMARY:Falkirk Supporters Society End Of Season Party
DESCRIPTION:Falkirk Supporters Society host another end of season party where all proceeds go to Falkirk FC football budget. Come along and join the Bairns Community for a great night of togetherness as Falkirk Fans. Raffle\,   auction\, a great mix of music\,dancing and fun. Making the evening bounce will be Bairns fan and top DJ  Ian ‘ Shoot The DJ ‘ Graham. \nSure to be a cracker for one and all\, come join us ! COYB
URL:https://looklively.app/event/falkirk-supporters-society-end-of-season-party/
LOCATION:Camelon Social Club\, 2 Nailer Road\, Falkirk\, FK1 4DA
CATEGORIES:Falkirk
ATTACH;FMTTYPE=image/avif:https://looklively.app/wp-content/uploads/2025/04/1858379_3680d59c_falkirk-supporters-society-end-of-season-party_1024.avif
END:VEVENT
END:VCALENDAR