BEGIN:VCALENDAR
VERSION:2.0
PRODID:-//Look Lively - ECPv6.15.11//NONSGML v1.0//EN
CALSCALE:GREGORIAN
METHOD:PUBLISH
X-WR-CALNAME:Look Lively
X-ORIGINAL-URL:https://looklively.app
X-WR-CALDESC:Events for Look Lively
REFRESH-INTERVAL;VALUE=DURATION:PT1H
X-Robots-Tag:noindex
X-PUBLISHED-TTL:PT1H
BEGIN:VTIMEZONE
TZID:Europe/London
BEGIN:DAYLIGHT
TZOFFSETFROM:+0000
TZOFFSETTO:+0100
TZNAME:BST
DTSTART:20240331T010000
END:DAYLIGHT
BEGIN:STANDARD
TZOFFSETFROM:+0100
TZOFFSETTO:+0000
TZNAME:GMT
DTSTART:20241027T010000
END:STANDARD
BEGIN:DAYLIGHT
TZOFFSETFROM:+0000
TZOFFSETTO:+0100
TZNAME:BST
DTSTART:20250330T010000
END:DAYLIGHT
BEGIN:STANDARD
TZOFFSETFROM:+0100
TZOFFSETTO:+0000
TZNAME:GMT
DTSTART:20251026T010000
END:STANDARD
BEGIN:DAYLIGHT
TZOFFSETFROM:+0000
TZOFFSETTO:+0100
TZNAME:BST
DTSTART:20260329T010000
END:DAYLIGHT
BEGIN:STANDARD
TZOFFSETFROM:+0100
TZOFFSETTO:+0000
TZNAME:GMT
DTSTART:20261025T010000
END:STANDARD
END:VTIMEZONE
BEGIN:VEVENT
DTSTART;TZID=Europe/London:20250305T173000
DTEND;TZID=Europe/London:20250305T190000
DTSTAMP:20260421T174542
CREATED:20250303T213759Z
LAST-MODIFIED:20250303T213759Z
UID:11578-1741195800-1741201200@looklively.app
SUMMARY:Fenerbahçe vs Rangers – Live at The Scotia
DESCRIPTION:Fenerbahçe vs Rangers – Live at The Scotia! \nJoin us on Thursday\, 6th March\, as we bring you all the action from the Fenerbahçe vs Rangers clash\, live on our big screens! Kick-off at 5:45 PM – get down early to grab the best seats. \nWhere? The Scotia\, Falkirk\nWhen? Thursday 6th March | Kick-off 5:45 PM \nSee you there!
URL:https://looklively.app/event/fenerbahce-vs-rangers-live-at-the-scotia/
LOCATION:The Scotia\, 51 Manor St\, Falkirk\, FK1 1NH\, United Kingdom
ATTACH;FMTTYPE=image/jpeg:https://looklively.app/wp-content/uploads/2025/03/482262951_1114398533818946_1529048275202242376_n.jpg
END:VEVENT
END:VCALENDAR