BEGIN:VCALENDAR
VERSION:2.0
PRODID:-//Look Lively - ECPv6.15.11//NONSGML v1.0//EN
CALSCALE:GREGORIAN
METHOD:PUBLISH
X-WR-CALNAME:Look Lively
X-ORIGINAL-URL:https://looklively.app
X-WR-CALDESC:Events for Look Lively
REFRESH-INTERVAL;VALUE=DURATION:PT1H
X-Robots-Tag:noindex
X-PUBLISHED-TTL:PT1H
BEGIN:VTIMEZONE
TZID:Europe/London
BEGIN:DAYLIGHT
TZOFFSETFROM:+0000
TZOFFSETTO:+0100
TZNAME:BST
DTSTART:20240331T010000
END:DAYLIGHT
BEGIN:STANDARD
TZOFFSETFROM:+0100
TZOFFSETTO:+0000
TZNAME:GMT
DTSTART:20241027T010000
END:STANDARD
BEGIN:DAYLIGHT
TZOFFSETFROM:+0000
TZOFFSETTO:+0100
TZNAME:BST
DTSTART:20250330T010000
END:DAYLIGHT
BEGIN:STANDARD
TZOFFSETFROM:+0100
TZOFFSETTO:+0000
TZNAME:GMT
DTSTART:20251026T010000
END:STANDARD
BEGIN:DAYLIGHT
TZOFFSETFROM:+0000
TZOFFSETTO:+0100
TZNAME:BST
DTSTART:20260329T010000
END:DAYLIGHT
BEGIN:STANDARD
TZOFFSETFROM:+0100
TZOFFSETTO:+0000
TZNAME:GMT
DTSTART:20261025T010000
END:STANDARD
END:VTIMEZONE
BEGIN:VEVENT
DTSTART;TZID=Europe/London:20250502T190000
DTEND;TZID=Europe/London:20250502T233000
DTSTAMP:20260424T082004
CREATED:20250303T215705Z
LAST-MODIFIED:20250303T215827Z
UID:11587-1746212400-1746228600@looklively.app
SUMMARY:Kyle Falconer (The View) – Live at The Plough Hotel
DESCRIPTION:Kyle Falconer (The View) – Live at The Plough Hotel\n\nScottish indie legend Kyle Falconer\, frontman of The View\, is coming to Stenhousemuir for a special live performance at The Plough Hotel on Friday\, 2nd May 2025!\n\nKyle is in town to promote his brand-new album\, ‘The One I Love The Most’\, and fans can expect an unforgettable night of music\, featuring a mix of The View’s biggest hits and his acclaimed solo material.\n\nVenue: The Plough Hotel\, Stenhousemuir \nDate: Friday 2nd May \nTime: 7:00 PM – 11:30 PM \nExpect to hear: The View classics + brand-new solo tracks \n\nClick here to Secure your spot now\, Tickets going fast!
URL:https://looklively.app/event/kyle-falconer-the-view-live-at-the-plough-hotel/
LOCATION:The Plough Hotel\, 507 Main Street\, Stenhousemuir\, FK5 4EY\, United Kingdom
ATTACH;FMTTYPE=image/jpeg:https://looklively.app/wp-content/uploads/2025/03/unnamed.jpg
END:VEVENT
END:VCALENDAR