BEGIN:VCALENDAR
VERSION:2.0
PRODID:-//Look Lively - ECPv6.15.11//NONSGML v1.0//EN
CALSCALE:GREGORIAN
METHOD:PUBLISH
X-WR-CALNAME:Look Lively
X-ORIGINAL-URL:https://looklively.app
X-WR-CALDESC:Events for Look Lively
REFRESH-INTERVAL;VALUE=DURATION:PT1H
X-Robots-Tag:noindex
X-PUBLISHED-TTL:PT1H
BEGIN:VTIMEZONE
TZID:Europe/London
BEGIN:DAYLIGHT
TZOFFSETFROM:+0000
TZOFFSETTO:+0100
TZNAME:BST
DTSTART:20240331T010000
END:DAYLIGHT
BEGIN:STANDARD
TZOFFSETFROM:+0100
TZOFFSETTO:+0000
TZNAME:GMT
DTSTART:20241027T010000
END:STANDARD
BEGIN:DAYLIGHT
TZOFFSETFROM:+0000
TZOFFSETTO:+0100
TZNAME:BST
DTSTART:20250330T010000
END:DAYLIGHT
BEGIN:STANDARD
TZOFFSETFROM:+0100
TZOFFSETTO:+0000
TZNAME:GMT
DTSTART:20251026T010000
END:STANDARD
BEGIN:DAYLIGHT
TZOFFSETFROM:+0000
TZOFFSETTO:+0100
TZNAME:BST
DTSTART:20260329T010000
END:DAYLIGHT
BEGIN:STANDARD
TZOFFSETFROM:+0100
TZOFFSETTO:+0000
TZNAME:GMT
DTSTART:20261025T010000
END:STANDARD
END:VTIMEZONE
BEGIN:VEVENT
DTSTART;TZID=Europe/London:20250223T153000
DTEND;TZID=Europe/London:20250223T183000
DTSTAMP:20260422T012552
CREATED:20250203T200950Z
LAST-MODIFIED:20250606T124037Z
UID:10266-1740324600-1740335400@looklively.app
SUMMARY:Life Drawing Adult Classes at D2 The Creative Centre
DESCRIPTION:This class will appeal to all artists; beginners\, students or professionals. Figure drawing is a core part of any art practice and improves observational drawing skills and essential if building a portfolio for art school entry. In addition\, this is a relaxing and timeless subject that can be enjoyed by all. Booking is essential\, students should bring their own materials and refreshments. This class is open to anyone aged 16+.Next life drawing scheduled for 23rd of February from 3.30-6.30pm\, class costs £24. Welcoming absolute beginners to advanced artists. Paper available to buy @ D2. Booking online essential:www.d2thecreativecentre.as.me
URL:https://looklively.app/event/life-drawing-adult-classes-at-d2-the-creative-centre/
LOCATION:D2 The Creative Centre\, Lochlands Industrial Estate\, Larbert\, FK5 3NS\, United Kingdom
CATEGORIES:Falkirk
ATTACH;FMTTYPE=image/png:https://looklively.app/wp-content/uploads/2025/02/EVENT-POST-PHOTO-46.png
END:VEVENT
END:VCALENDAR