BEGIN:VCALENDAR
VERSION:2.0
PRODID:-//Look Lively - ECPv6.15.11//NONSGML v1.0//EN
CALSCALE:GREGORIAN
METHOD:PUBLISH
X-WR-CALNAME:Look Lively
X-ORIGINAL-URL:https://looklively.app
X-WR-CALDESC:Events for Look Lively
REFRESH-INTERVAL;VALUE=DURATION:PT1H
X-Robots-Tag:noindex
X-PUBLISHED-TTL:PT1H
BEGIN:VTIMEZONE
TZID:Europe/London
BEGIN:DAYLIGHT
TZOFFSETFROM:+0000
TZOFFSETTO:+0100
TZNAME:BST
DTSTART:20240331T010000
END:DAYLIGHT
BEGIN:STANDARD
TZOFFSETFROM:+0100
TZOFFSETTO:+0000
TZNAME:GMT
DTSTART:20241027T010000
END:STANDARD
BEGIN:DAYLIGHT
TZOFFSETFROM:+0000
TZOFFSETTO:+0100
TZNAME:BST
DTSTART:20250330T010000
END:DAYLIGHT
BEGIN:STANDARD
TZOFFSETFROM:+0100
TZOFFSETTO:+0000
TZNAME:GMT
DTSTART:20251026T010000
END:STANDARD
BEGIN:DAYLIGHT
TZOFFSETFROM:+0000
TZOFFSETTO:+0100
TZNAME:BST
DTSTART:20260329T010000
END:DAYLIGHT
BEGIN:STANDARD
TZOFFSETFROM:+0100
TZOFFSETTO:+0000
TZNAME:GMT
DTSTART:20261025T010000
END:STANDARD
END:VTIMEZONE
BEGIN:VEVENT
DTSTART;TZID=Europe/London:20250315T180000
DTEND;TZID=Europe/London:20250315T193000
DTSTAMP:20260421T230654
CREATED:20250225T202201Z
LAST-MODIFIED:20250225T202223Z
UID:11129-1742061600-1742067000@looklively.app
SUMMARY:Live Session with David Glen at The Scotia
DESCRIPTION:Join us at The Scotia for an incredible Early Evening Live Session on Saturday\, March 15th\, featuring the talented David Glen! Date: Saturday\, March 15thTime: 6:00 PM – 7:30 PMVenue: The Scotia Kickstart your Saturday evening with the soulful sounds and brilliant musicianship of David Glen. With his rich vocals\, dynamic guitar playing\, and engaging stage presence\, David brings a fantastic mix of classics\, crowd favorites\, and heartfelt originals that are sure to set the perfect mood for the night ahead. Live acoustic set with a mix of great tunesTop-quality drinks & a welcoming atmosphereNo tickets needed – just turn up & enjoy the music! Whether you’re meeting friends for a few drinks\, looking for top-tier live entertainment\, or simply love good music\, this intimate early evening session is the perfect way to start your weekend. Make sure you get down early\, grab a seat\, and enjoy an unforgettable performance with David Glen at The Scotia!
URL:https://looklively.app/event/live-session-with-david-glen-at-the-scotia/
LOCATION:The Scotia\, 51 Manor St\, Falkirk\, FK1 1NH\, United Kingdom
ATTACH;FMTTYPE=image/png:https://looklively.app/wp-content/uploads/2025/02/EVENT-POST-PHOTO-90.png
END:VEVENT
END:VCALENDAR