BEGIN:VCALENDAR
VERSION:2.0
PRODID:-//Look Lively - ECPv6.15.11//NONSGML v1.0//EN
CALSCALE:GREGORIAN
METHOD:PUBLISH
X-WR-CALNAME:Look Lively
X-ORIGINAL-URL:https://looklively.app
X-WR-CALDESC:Events for Look Lively
REFRESH-INTERVAL;VALUE=DURATION:PT1H
X-Robots-Tag:noindex
X-PUBLISHED-TTL:PT1H
BEGIN:VTIMEZONE
TZID:Europe/London
BEGIN:DAYLIGHT
TZOFFSETFROM:+0000
TZOFFSETTO:+0100
TZNAME:BST
DTSTART:20240331T010000
END:DAYLIGHT
BEGIN:STANDARD
TZOFFSETFROM:+0100
TZOFFSETTO:+0000
TZNAME:GMT
DTSTART:20241027T010000
END:STANDARD
BEGIN:DAYLIGHT
TZOFFSETFROM:+0000
TZOFFSETTO:+0100
TZNAME:BST
DTSTART:20250330T010000
END:DAYLIGHT
BEGIN:STANDARD
TZOFFSETFROM:+0100
TZOFFSETTO:+0000
TZNAME:GMT
DTSTART:20251026T010000
END:STANDARD
BEGIN:DAYLIGHT
TZOFFSETFROM:+0000
TZOFFSETTO:+0100
TZNAME:BST
DTSTART:20260329T010000
END:DAYLIGHT
BEGIN:STANDARD
TZOFFSETFROM:+0100
TZOFFSETTO:+0000
TZNAME:GMT
DTSTART:20261025T010000
END:STANDARD
END:VTIMEZONE
BEGIN:VEVENT
DTSTART;TZID=Europe/London:20250213T190000
DTEND;TZID=Europe/London:20250213T220000
DTSTAMP:20260420T073031
CREATED:20250203T203914Z
LAST-MODIFIED:20250203T203954Z
UID:10276-1739473200-1739484000@looklively.app
SUMMARY: Love in The Loft – Speed Dating at The Scotia
DESCRIPTION: Love in The Loft – Speed Dating at The Scotia! Single? Over 30? Ready to meet someone who actually texts back? Join us at The Scotia for Love in The Loft with Lauren – a speed dating night for 30s & 40s looking for a fun\, no-pressure way to meet new people! When? Thursday 13th February | 7PM – 10PMWhere? The Loft at The Scotia\, FalkirkEntry? FREE – so you’ve got nothing to lose (except your single status) Expect great chat\, plenty of laughs\, and maybe even a spark or two. Whether you’re here for romance\, new mates\, or just a fun night out\, you never know who you’ll meet!  
URL:https://looklively.app/event/love-in-the-loft-speed-dating-at-the-scotia/
LOCATION:The Scotia\, 51 Manor St\, Falkirk\, FK1 1NH\, United Kingdom
ATTACH;FMTTYPE=image/png:https://looklively.app/wp-content/uploads/2025/02/EVENT-POST-PHOTO-48.png
END:VEVENT
END:VCALENDAR