BEGIN:VCALENDAR
VERSION:2.0
PRODID:-//Look Lively - ECPv6.15.11//NONSGML v1.0//EN
CALSCALE:GREGORIAN
METHOD:PUBLISH
X-WR-CALNAME:Look Lively
X-ORIGINAL-URL:https://looklively.app
X-WR-CALDESC:Events for Look Lively
REFRESH-INTERVAL;VALUE=DURATION:PT1H
X-Robots-Tag:noindex
X-PUBLISHED-TTL:PT1H
BEGIN:VTIMEZONE
TZID:Europe/London
BEGIN:DAYLIGHT
TZOFFSETFROM:+0000
TZOFFSETTO:+0100
TZNAME:BST
DTSTART:20240331T010000
END:DAYLIGHT
BEGIN:STANDARD
TZOFFSETFROM:+0100
TZOFFSETTO:+0000
TZNAME:GMT
DTSTART:20241027T010000
END:STANDARD
BEGIN:DAYLIGHT
TZOFFSETFROM:+0000
TZOFFSETTO:+0100
TZNAME:BST
DTSTART:20250330T010000
END:DAYLIGHT
BEGIN:STANDARD
TZOFFSETFROM:+0100
TZOFFSETTO:+0000
TZNAME:GMT
DTSTART:20251026T010000
END:STANDARD
BEGIN:DAYLIGHT
TZOFFSETFROM:+0000
TZOFFSETTO:+0100
TZNAME:BST
DTSTART:20260329T010000
END:DAYLIGHT
BEGIN:STANDARD
TZOFFSETFROM:+0100
TZOFFSETTO:+0000
TZNAME:GMT
DTSTART:20261025T010000
END:STANDARD
END:VTIMEZONE
BEGIN:VEVENT
DTSTART;VALUE=DATE:20250206
DTEND;VALUE=DATE:20250502
DTSTAMP:20260419T193610
CREATED:20250206T201550Z
LAST-MODIFIED:20250321T062132Z
UID:10364-1738800000-1746143999@looklively.app
SUMMARY:Lunch (Served 7 Days a Week) at The Blackmill Bar & Kitchen
DESCRIPTION:Lunch at The Blackmill Bar & Kitchen – Served 7 Days a WeekLooking for a delicious lunch in a great atmosphere? We’ve got you covered! Join us every day for a tasty midday meal at The Blackmill Bar & Kitchen. Lunch Menu Highlights:Soup & a Panini – A perfect combo for a cozy lunch!Soup & a Small Main – Comfort food at its best!Tasty Ciabattas – Freshly made with your favorite fillings! Where? The Blackmill Bar & KitchenWhen? Served 7 Days a Week! Whether you’re catching up with friends\, taking a break from work\, or just craving something delicious – we’ve got the perfect lunch for you!
URL:https://looklively.app/event/lunch-served-7-days-a-week-at-the-blackmill-bar-kitchen/
LOCATION:The Blackmill Bar & Kitchen\, 193 Carronshore Rd\, Carron\, Falkirk FK2 8ES\, FK2 8ES\, United Kingdom
ATTACH;FMTTYPE=image/png:https://looklively.app/wp-content/uploads/2025/02/EVENT-POST-PHOTO-57.png
END:VEVENT
END:VCALENDAR