BEGIN:VCALENDAR
VERSION:2.0
PRODID:-//Look Lively - ECPv6.15.11//NONSGML v1.0//EN
CALSCALE:GREGORIAN
METHOD:PUBLISH
X-WR-CALNAME:Look Lively
X-ORIGINAL-URL:https://looklively.app
X-WR-CALDESC:Events for Look Lively
REFRESH-INTERVAL;VALUE=DURATION:PT1H
X-Robots-Tag:noindex
X-PUBLISHED-TTL:PT1H
BEGIN:VTIMEZONE
TZID:Europe/London
BEGIN:DAYLIGHT
TZOFFSETFROM:+0000
TZOFFSETTO:+0100
TZNAME:BST
DTSTART:20240331T010000
END:DAYLIGHT
BEGIN:STANDARD
TZOFFSETFROM:+0100
TZOFFSETTO:+0000
TZNAME:GMT
DTSTART:20241027T010000
END:STANDARD
BEGIN:DAYLIGHT
TZOFFSETFROM:+0000
TZOFFSETTO:+0100
TZNAME:BST
DTSTART:20250330T010000
END:DAYLIGHT
BEGIN:STANDARD
TZOFFSETFROM:+0100
TZOFFSETTO:+0000
TZNAME:GMT
DTSTART:20251026T010000
END:STANDARD
BEGIN:DAYLIGHT
TZOFFSETFROM:+0000
TZOFFSETTO:+0100
TZNAME:BST
DTSTART:20260329T010000
END:DAYLIGHT
BEGIN:STANDARD
TZOFFSETFROM:+0100
TZOFFSETTO:+0000
TZNAME:GMT
DTSTART:20261025T010000
END:STANDARD
END:VTIMEZONE
BEGIN:VEVENT
DTSTART;VALUE=DATE:20250704
DTEND;VALUE=DATE:20250705
DTSTAMP:20260425T130530
CREATED:20250402T190533Z
LAST-MODIFIED:20250606T130531Z
UID:14174-1751587200-1751673599@looklively.app
SUMMARY:Music From the Movies by Candlelight
DESCRIPTION:🎵 This experience is brought to you by Candlelight Concerts. This concert is not affiliated with the Fever Original Candlelight series. Tickets for Music from the Movies by Candlelight 🎫 Band AA ticket for 1 🎫 Band A ticket for 1 🎫 Band B ticket for 1 🎫 Band C ticket for 1 Highlights 📽️ Enjoy a sensational programme of movie soundtracks 🎻 Stunning performances from the highly acclaimed London Concertante ⭐ The perfect option for first-time classical concert-goers ⛪ The beautiful Cathedral in Edinburgh General Info 📅 Date: 04/07/2025 🕒 Time: 20:00 ⏳ Duration: 2 hours 📍 Location: St Giles’ Cathedral\, Edinburgh 👤 Age requirement: All ages welcome Concert Details  Musicians The London Concertante  Programme  Jurassic Park – Main Theme ET – ET Flying Theme The Godfather – Main Title and Love Theme (waltz) The Mission – Gabriel’s Oboe Mozart – Marriage of Figaro Overture James Bond – Skyfall & Main Theme Game of Thrones – Main Theme Shostakovich – Waltz from Jazz Suite No.2 And many\, many more! Description Brought to you by Candlelight Concerts\, join the internationally-renowned London Concertante on a stunning red carpet ride of cinema’s most iconic soundtracks! From aliens and spies to dinosaurs and war heroes\, this evening promises to be an exciting exploration of the power of music for the movies. Packed full of all your favourites made famous by Hollywood\, these tracks span generations making this the perfect experience for the whole family. Get your tickets now for Music from the Movies !
URL:https://looklively.app/event/music-from-the-movies-by-candlelight/
LOCATION:St Giles’ Cathedral\, High Street\, Edinburgh\, United Kingdom
CATEGORIES:Edinburgh
ATTACH;FMTTYPE=image/jpeg:https://looklively.app/wp-content/uploads/2025/04/8092c21c-df1f-11ef-ac1f-727c434b7b14-gOonIN.tmp_.jpg
END:VEVENT
END:VCALENDAR