BEGIN:VCALENDAR
VERSION:2.0
PRODID:-//Look Lively - ECPv6.15.11//NONSGML v1.0//EN
CALSCALE:GREGORIAN
METHOD:PUBLISH
X-WR-CALNAME:Look Lively
X-ORIGINAL-URL:https://looklively.app
X-WR-CALDESC:Events for Look Lively
REFRESH-INTERVAL;VALUE=DURATION:PT1H
X-Robots-Tag:noindex
X-PUBLISHED-TTL:PT1H
BEGIN:VTIMEZONE
TZID:Europe/London
BEGIN:DAYLIGHT
TZOFFSETFROM:+0000
TZOFFSETTO:+0100
TZNAME:BST
DTSTART:20240331T010000
END:DAYLIGHT
BEGIN:STANDARD
TZOFFSETFROM:+0100
TZOFFSETTO:+0000
TZNAME:GMT
DTSTART:20241027T010000
END:STANDARD
BEGIN:DAYLIGHT
TZOFFSETFROM:+0000
TZOFFSETTO:+0100
TZNAME:BST
DTSTART:20250330T010000
END:DAYLIGHT
BEGIN:STANDARD
TZOFFSETFROM:+0100
TZOFFSETTO:+0000
TZNAME:GMT
DTSTART:20251026T010000
END:STANDARD
BEGIN:DAYLIGHT
TZOFFSETFROM:+0000
TZOFFSETTO:+0100
TZNAME:BST
DTSTART:20260329T010000
END:DAYLIGHT
BEGIN:STANDARD
TZOFFSETFROM:+0100
TZOFFSETTO:+0000
TZNAME:GMT
DTSTART:20261025T010000
END:STANDARD
END:VTIMEZONE
BEGIN:VEVENT
DTSTART;VALUE=DATE:20250206
DTEND;VALUE=DATE:20250502
DTSTAMP:20260419T193622
CREATED:20250206T202054Z
LAST-MODIFIED:20250321T062204Z
UID:10369-1738800000-1746143999@looklively.app
SUMMARY:New Vegan & Vegetarian Menu at The Blackmill Bar & Kitchen
DESCRIPTION:Calling All Vegans & Vegetarians! We’ve been working behind the scenes with our chefs to bring you something special! Introducing Our Trial Vegan & Vegetarian Menu! Expect delicious\, freshly prepared plant-based dishes that don’t compromise on taste. Whether you’re vegan\, vegetarian\, or just curious\, we’ve got something for you! Where? The Blackmill Bar & KitchenWhen? Launching next week! Come along\, try it out\, and let us know what you think!
URL:https://looklively.app/event/new-vegans-vegetarian-menu-at-the-blackmill-bar-kitchen/
LOCATION:The Blackmill Bar & Kitchen\, 193 Carronshore Rd\, Carron\, Falkirk FK2 8ES\, FK2 8ES\, United Kingdom
ATTACH;FMTTYPE=image/png:https://looklively.app/wp-content/uploads/2025/02/EVENT-POST-PHOTO-58.png
END:VEVENT
END:VCALENDAR