BEGIN:VCALENDAR
VERSION:2.0
PRODID:-//Look Lively - ECPv6.15.11//NONSGML v1.0//EN
CALSCALE:GREGORIAN
METHOD:PUBLISH
X-WR-CALNAME:Look Lively
X-ORIGINAL-URL:https://looklively.app
X-WR-CALDESC:Events for Look Lively
REFRESH-INTERVAL;VALUE=DURATION:PT1H
X-Robots-Tag:noindex
X-PUBLISHED-TTL:PT1H
BEGIN:VTIMEZONE
TZID:Europe/London
BEGIN:DAYLIGHT
TZOFFSETFROM:+0000
TZOFFSETTO:+0100
TZNAME:BST
DTSTART:20240331T010000
END:DAYLIGHT
BEGIN:STANDARD
TZOFFSETFROM:+0100
TZOFFSETTO:+0000
TZNAME:GMT
DTSTART:20241027T010000
END:STANDARD
BEGIN:DAYLIGHT
TZOFFSETFROM:+0000
TZOFFSETTO:+0100
TZNAME:BST
DTSTART:20250330T010000
END:DAYLIGHT
BEGIN:STANDARD
TZOFFSETFROM:+0100
TZOFFSETTO:+0000
TZNAME:GMT
DTSTART:20251026T010000
END:STANDARD
BEGIN:DAYLIGHT
TZOFFSETFROM:+0000
TZOFFSETTO:+0100
TZNAME:BST
DTSTART:20260329T010000
END:DAYLIGHT
BEGIN:STANDARD
TZOFFSETFROM:+0100
TZOFFSETTO:+0000
TZNAME:GMT
DTSTART:20261025T010000
END:STANDARD
END:VTIMEZONE
BEGIN:VEVENT
DTSTART;VALUE=DATE:20250405
DTEND;VALUE=DATE:20250608
DTSTAMP:20260422T234835
CREATED:20250402T190935Z
LAST-MODIFIED:20250606T125922Z
UID:14212-1743811200-1749340799@looklively.app
SUMMARY:Potion Experience at the Edinburgh School of Magic
DESCRIPTION:Smartphone tickets ⚡ Instant access to your tickets ⏳ Duration: up to 1 hour 30 minutes 👉 Available in English Dive into the mystical world of wizardry at the heart of Edinburgh\nMaster the art of potion-making in a secret\, candlelit cave that’s been hidden since the Great Edinburgh Fire\, just steps away from St Giles Cathedral\nThis is your chance to explore spell casting\, runecraft\, and the pivotal craft of alchemy with fellow magic enthusiasts\nGet your tickets for Potion Experience at the Edinburgh School of Magic! Highlights 🔮 Master the art of potion-making in an ancient\, candlelit cave\n🚶‍♂️ Start and end your magical journey in front of the iconic St Giles Cathedral\n🎲 Engage in a mini escape game and six thrilling experiments\nWhat’s included? ✔️ 1 Mini escape game to challenge your wit and problem-solving skills\n✔️ 6 exciting experiments to spark your curiosity and engage your senses\nAdditional Information 🐕 Service animals are welcome\n🚆 Nearby public transportation options make it easily accessible\n🏋️ It’s suitable for participants of all physical fitness levels\nWhy choose Fever? ✔️ Millions of users book every month\n✔️ The best prices and availability at all times\n✔️ Thousands of unique experiences\n✔️ Verified user reviews\n✔️ 24/7 customer service\nExperience supplied by Imagine Experiences All ticket sales are final and cannot be refunded\, exchanged\, or otherwise modified\nClick here to check out the T&Cs
URL:https://looklively.app/event/potion-experience-at-the-edinburgh-school-of-magic/
LOCATION:249 High St\, Edinburgh\, United Kingdom
CATEGORIES:Edinburgh
ATTACH;FMTTYPE=image/jpeg:https://looklively.app/wp-content/uploads/2025/04/4d55de6e-1136-11ef-88d0-8efdd0ab1e09-uP4A4Y.tmp_.jpg
END:VEVENT
END:VCALENDAR