BEGIN:VCALENDAR
VERSION:2.0
PRODID:-//Look Lively - ECPv6.15.11//NONSGML v1.0//EN
CALSCALE:GREGORIAN
METHOD:PUBLISH
X-WR-CALNAME:Look Lively
X-ORIGINAL-URL:https://looklively.app
X-WR-CALDESC:Events for Look Lively
REFRESH-INTERVAL;VALUE=DURATION:PT1H
X-Robots-Tag:noindex
X-PUBLISHED-TTL:PT1H
BEGIN:VTIMEZONE
TZID:Europe/London
BEGIN:DAYLIGHT
TZOFFSETFROM:+0000
TZOFFSETTO:+0100
TZNAME:BST
DTSTART:20240331T010000
END:DAYLIGHT
BEGIN:STANDARD
TZOFFSETFROM:+0100
TZOFFSETTO:+0000
TZNAME:GMT
DTSTART:20241027T010000
END:STANDARD
BEGIN:DAYLIGHT
TZOFFSETFROM:+0000
TZOFFSETTO:+0100
TZNAME:BST
DTSTART:20250330T010000
END:DAYLIGHT
BEGIN:STANDARD
TZOFFSETFROM:+0100
TZOFFSETTO:+0000
TZNAME:GMT
DTSTART:20251026T010000
END:STANDARD
BEGIN:DAYLIGHT
TZOFFSETFROM:+0000
TZOFFSETTO:+0100
TZNAME:BST
DTSTART:20260329T010000
END:DAYLIGHT
BEGIN:STANDARD
TZOFFSETFROM:+0100
TZOFFSETTO:+0000
TZNAME:GMT
DTSTART:20261025T010000
END:STANDARD
END:VTIMEZONE
BEGIN:VEVENT
DTSTART;TZID=Europe/London:20250427T200000
DTEND;TZID=Europe/London:20250427T220000
DTSTAMP:20260424T034518
CREATED:20250424T095033Z
LAST-MODIFIED:20250424T095600Z
UID:15505-1745784000-1745791200@looklively.app
SUMMARY:Quiz Night at The Oxgang
DESCRIPTION:Join Gemini Music DJ\, Weddings\, Discos & Events for a fun quiz night starting at 8 PM on Sunday at the Oxgang! Test your knowledge and compete for a chance to win a £40 voucher for the first place team. Gather your friends and make it a night to remember!
URL:https://looklively.app/event/quiz-night-at-the-oxgang/
LOCATION:The Oxgang Grangemouth\, 15-17 Oxgang Road\, Grangemouth\, FK3 9BY
ATTACH;FMTTYPE=image/jpeg:https://looklively.app/wp-content/uploads/2025/04/493040172_1234909245304602_145199372753318641_n.jpg
END:VEVENT
END:VCALENDAR