BEGIN:VCALENDAR
VERSION:2.0
PRODID:-//Look Lively - ECPv6.15.11//NONSGML v1.0//EN
CALSCALE:GREGORIAN
METHOD:PUBLISH
X-WR-CALNAME:Look Lively
X-ORIGINAL-URL:https://looklively.app
X-WR-CALDESC:Events for Look Lively
REFRESH-INTERVAL;VALUE=DURATION:PT1H
X-Robots-Tag:noindex
X-PUBLISHED-TTL:PT1H
BEGIN:VTIMEZONE
TZID:Europe/London
BEGIN:DAYLIGHT
TZOFFSETFROM:+0000
TZOFFSETTO:+0100
TZNAME:BST
DTSTART:20240331T010000
END:DAYLIGHT
BEGIN:STANDARD
TZOFFSETFROM:+0100
TZOFFSETTO:+0000
TZNAME:GMT
DTSTART:20241027T010000
END:STANDARD
BEGIN:DAYLIGHT
TZOFFSETFROM:+0000
TZOFFSETTO:+0100
TZNAME:BST
DTSTART:20250330T010000
END:DAYLIGHT
BEGIN:STANDARD
TZOFFSETFROM:+0100
TZOFFSETTO:+0000
TZNAME:GMT
DTSTART:20251026T010000
END:STANDARD
BEGIN:DAYLIGHT
TZOFFSETFROM:+0000
TZOFFSETTO:+0100
TZNAME:BST
DTSTART:20260329T010000
END:DAYLIGHT
BEGIN:STANDARD
TZOFFSETFROM:+0100
TZOFFSETTO:+0000
TZNAME:GMT
DTSTART:20261025T010000
END:STANDARD
END:VTIMEZONE
BEGIN:VEVENT
DTSTART;TZID=Europe/London:20250301T203000
DTEND;TZID=Europe/London:20250301T233000
DTSTAMP:20260421T215207
CREATED:20250215T083142Z
LAST-MODIFIED:20250215T083229Z
UID:10537-1740861000-1740871800@looklively.app
SUMMARY:Rock 'n' Roll and Party Anthems at The Blackmill Bar & Kitchen
DESCRIPTION:Double Bill at The Blackmill – Saturday\, 1st March!  Get ready for a night of non-stop entertainment as The Blackmill brings you a double bill of rock ‘n’ roll and party anthems! J.S Presley – Bringing you the best of The King with a tribute that will have you shaking\, rattling\, and rolling!Dionne Hickey – Expect glow sticks\, party anthems\, and high-energy vibes to keep the night going! Where? The Blackmill Bar & KitchenWhen? Saturday\, 1st March – 8:30PMHow much? FREE! No tickets required—just bring your best moves!
URL:https://looklively.app/event/rock-n-roll-and-party-anthems-at-the-blackmill-bar-kitchen/
LOCATION:The Blackmill Bar & Kitchen\, 193 Carronshore Rd\, Carron\, Falkirk FK2 8ES\, FK2 8ES\, United Kingdom
ATTACH;FMTTYPE=image/png:https://looklively.app/wp-content/uploads/2025/02/EVENT-POST-PHOTO-69.png
END:VEVENT
END:VCALENDAR