BEGIN:VCALENDAR
VERSION:2.0
PRODID:-//Look Lively - ECPv6.15.11//NONSGML v1.0//EN
CALSCALE:GREGORIAN
METHOD:PUBLISH
X-WR-CALNAME:Look Lively
X-ORIGINAL-URL:https://looklively.app
X-WR-CALDESC:Events for Look Lively
REFRESH-INTERVAL;VALUE=DURATION:PT1H
X-Robots-Tag:noindex
X-PUBLISHED-TTL:PT1H
BEGIN:VTIMEZONE
TZID:Europe/London
BEGIN:DAYLIGHT
TZOFFSETFROM:+0000
TZOFFSETTO:+0100
TZNAME:BST
DTSTART:20240331T010000
END:DAYLIGHT
BEGIN:STANDARD
TZOFFSETFROM:+0100
TZOFFSETTO:+0000
TZNAME:GMT
DTSTART:20241027T010000
END:STANDARD
BEGIN:DAYLIGHT
TZOFFSETFROM:+0000
TZOFFSETTO:+0100
TZNAME:BST
DTSTART:20250330T010000
END:DAYLIGHT
BEGIN:STANDARD
TZOFFSETFROM:+0100
TZOFFSETTO:+0000
TZNAME:GMT
DTSTART:20251026T010000
END:STANDARD
BEGIN:DAYLIGHT
TZOFFSETFROM:+0000
TZOFFSETTO:+0100
TZNAME:BST
DTSTART:20260329T010000
END:DAYLIGHT
BEGIN:STANDARD
TZOFFSETFROM:+0100
TZOFFSETTO:+0000
TZNAME:GMT
DTSTART:20261025T010000
END:STANDARD
END:VTIMEZONE
BEGIN:VEVENT
DTSTART;TZID=Europe/London:20250304T080000
DTEND;TZID=Europe/London:20250304T170000
DTSTAMP:20260421T213417
CREATED:20250304T225414Z
LAST-MODIFIED:20250606T114503Z
UID:11745-1741075200-1741107600@looklively.app
SUMMARY:Rosies Daytime Dancing – Over 30’s Party at City Falkirk
DESCRIPTION:Rosies / Falkirk Daytime Dancing – Over 30’s Party!\n\nWho says the best nights out have to happen at night? Rosies is flipping the script and turning the afternoon into the ultimate dance floor! Join us for Falkirk’s Daytime Dancing\, where over 30s can let loose\, dance\, and enjoy a vibrant atmosphere without waiting until the wee hours.\n\nVenue: City Falkirk\nDate: Saturday\, 15th March 2025\nTime: 3PM – 8PM (Performance starts at 6PM)\nAge: 25+\n\nWhether you’re reminiscing about the golden era of dance floors or just fancy a lively afternoon out\, this is your chance to enjoy great music\, great company\, and great vibes. Don’t miss it – grab your dancing shoes and join the fun!\n\nClick here to get your tickets now\, nearly a sell out!
URL:https://looklively.app/event/rosies-daytime-dancing-over-30s-party-at-city-falkirk/
LOCATION:City Falkirk\, 8-12 Princes St\, Falkirk\, FK1 1LU\, United Kingdom
CATEGORIES:Falkirk
ATTACH;FMTTYPE=image/avif:https://looklively.app/wp-content/uploads/2025/03/1911418_441fca37_rosies-falkirk-daytime-dancing-over-30-s-_1024.avif
END:VEVENT
END:VCALENDAR