BEGIN:VCALENDAR
VERSION:2.0
PRODID:-//Look Lively - ECPv6.15.11//NONSGML v1.0//EN
CALSCALE:GREGORIAN
METHOD:PUBLISH
X-WR-CALNAME:Look Lively
X-ORIGINAL-URL:https://looklively.app
X-WR-CALDESC:Events for Look Lively
REFRESH-INTERVAL;VALUE=DURATION:PT1H
X-Robots-Tag:noindex
X-PUBLISHED-TTL:PT1H
BEGIN:VTIMEZONE
TZID:Europe/London
BEGIN:DAYLIGHT
TZOFFSETFROM:+0000
TZOFFSETTO:+0100
TZNAME:BST
DTSTART:20240331T010000
END:DAYLIGHT
BEGIN:STANDARD
TZOFFSETFROM:+0100
TZOFFSETTO:+0000
TZNAME:GMT
DTSTART:20241027T010000
END:STANDARD
BEGIN:DAYLIGHT
TZOFFSETFROM:+0000
TZOFFSETTO:+0100
TZNAME:BST
DTSTART:20250330T010000
END:DAYLIGHT
BEGIN:STANDARD
TZOFFSETFROM:+0100
TZOFFSETTO:+0000
TZNAME:GMT
DTSTART:20251026T010000
END:STANDARD
BEGIN:DAYLIGHT
TZOFFSETFROM:+0000
TZOFFSETTO:+0100
TZNAME:BST
DTSTART:20260329T010000
END:DAYLIGHT
BEGIN:STANDARD
TZOFFSETFROM:+0100
TZOFFSETTO:+0000
TZNAME:GMT
DTSTART:20261025T010000
END:STANDARD
END:VTIMEZONE
BEGIN:VEVENT
DTSTART;VALUE=DATE:20250402
DTEND;VALUE=DATE:20250616
DTSTAMP:20260422T164228
CREATED:20250402T190956Z
LAST-MODIFIED:20250606T125800Z
UID:14261-1743552000-1750031999@looklively.app
SUMMARY:Royal Mile Guided Walking Tour in Edinburgh
DESCRIPTION:Smartphone tickets ⚡ Instant access to your tickets ⏳ Duration: 3h 👉 Experience available in English   Dive into the heart of Edinburgh with Stuart Usher\, his son Richard\, or our newest history buffs\, Dr\nAlison Duncan and David Forsyth\nThey’ll lead you through the Royal Mile’s hidden gems and historic tales\, all with an intimate group of just 12 explorers\nDiscover the Usher family’s legacy in the city and get swept up in stories that bring Edinburgh’s rich past and vibrant culture to life\nThis isn’t your average walk; it’s a journey filled with laughter\, learning\, and unforgettable sights\nGet your tickets for Royal Mile Guided Walking Tour in Edinburgh!   Highlights 🏰 Explore Edinburgh’s rich history with Stuart Usher’s family\, deeply rooted in the city’s past\n👥 Enjoy an intimate tour experience with a maximum of 12 guests\, ensuring personal attention\n🌇 Choose from exclusive evening or daytime tours\, each tailored to unveil the heart of Edinburgh\n  What’s included? ✔️ Small group (maximum 12 participants) ✔️ Professional guide   Itinerary Usher Hall – Admission not included Edinburgh Castle – Admission not included Grassmarket Milne’s Court Jolly Judge Writers’ Museum Riddle’s Court Deacon Brodie’s Tavern St Giles’ Cathedral – Admission not included Edinburgh City Chambers Edinburgh Waverley Station Scott Monument – Admission not included   Additional Information 👶 Infants and small children are welcome in a pram or stroller\, and those under 12 enjoy free admission\, while children aged 12-16 receive a 25% discount\n🐕 Service animals are permitted\n🚆 Nearby public transportation options are available\n💪 A moderate level of physical fitness is required for travelers\n  Why choose Fever? ✔️ Millions of users book every month\n✔️ The best prices and availability at all times\n✔️ Thousands of unique experiences\n✔️ Verified user reviews\n✔️ 24/7 customer service\n  Experience supplied by Edinburgh Guided Tour All ticket sales are final and cannot be refunded\, exchanged\, or otherwise modified\nClick here to check out  the T&Cs
URL:https://looklively.app/event/royal-mile-guided-walking-tour-in-edinburgh/
LOCATION:The Usher Hall\, Lothian Rd\, Edinburgh\, EH1 2EA\, United Kingdom
CATEGORIES:Edinburgh
ATTACH;FMTTYPE=image/jpeg:https://looklively.app/wp-content/uploads/2025/04/6c5fa25c-f8f6-11ee-a427-f6329ecd4d5b-nNtDmT.tmp_.jpg
END:VEVENT
END:VCALENDAR