BEGIN:VCALENDAR
VERSION:2.0
PRODID:-//Look Lively - ECPv6.15.11//NONSGML v1.0//EN
CALSCALE:GREGORIAN
METHOD:PUBLISH
X-WR-CALNAME:Look Lively
X-ORIGINAL-URL:https://looklively.app
X-WR-CALDESC:Events for Look Lively
REFRESH-INTERVAL;VALUE=DURATION:PT1H
X-Robots-Tag:noindex
X-PUBLISHED-TTL:PT1H
BEGIN:VTIMEZONE
TZID:Europe/London
BEGIN:DAYLIGHT
TZOFFSETFROM:+0000
TZOFFSETTO:+0100
TZNAME:BST
DTSTART:20240331T010000
END:DAYLIGHT
BEGIN:STANDARD
TZOFFSETFROM:+0100
TZOFFSETTO:+0000
TZNAME:GMT
DTSTART:20241027T010000
END:STANDARD
BEGIN:DAYLIGHT
TZOFFSETFROM:+0000
TZOFFSETTO:+0100
TZNAME:BST
DTSTART:20250330T010000
END:DAYLIGHT
BEGIN:STANDARD
TZOFFSETFROM:+0100
TZOFFSETTO:+0000
TZNAME:GMT
DTSTART:20251026T010000
END:STANDARD
BEGIN:DAYLIGHT
TZOFFSETFROM:+0000
TZOFFSETTO:+0100
TZNAME:BST
DTSTART:20260329T010000
END:DAYLIGHT
BEGIN:STANDARD
TZOFFSETFROM:+0100
TZOFFSETTO:+0000
TZNAME:GMT
DTSTART:20261025T010000
END:STANDARD
END:VTIMEZONE
BEGIN:VEVENT
DTSTART;TZID=Europe/London:20250222T163000
DTEND;TZID=Europe/London:20250222T183000
DTSTAMP:20260422T031559
CREATED:20250131T153404Z
LAST-MODIFIED:20250131T153442Z
UID:10223-1740241800-1740249000@looklively.app
SUMMARY:Scotland vs England – Six Nations LIVE at The Scotia
DESCRIPTION:Scotland vs England – Six Nations LIVE at The ScotiaThe biggest grudge match in rugby is here—England vs Scotland in the Six Nations! Saturday 22nd FebruaryKick-off: 4:45 PMWhere? The Scotia Get the pints in\, grab your spot early\, and prepare for 80 minutes of pure rugby rivalry. Whether you’re backing the thistle or the rose\, there’s only one place to watch it—live\, loud\, and surrounded by fans! Drinks flowing\, atmosphere buzzing—see you there!
URL:https://looklively.app/event/scotland-vs-england-six-nations-live-at-the-scotia/
LOCATION:The Scotia\, 51 Manor St\, Falkirk\, FK1 1NH\, United Kingdom
ATTACH;FMTTYPE=image/png:https://looklively.app/wp-content/uploads/2025/01/EVENT-POST-PHOTO-42.png
END:VEVENT
END:VCALENDAR