BEGIN:VCALENDAR
VERSION:2.0
PRODID:-//Look Lively - ECPv6.15.11//NONSGML v1.0//EN
CALSCALE:GREGORIAN
METHOD:PUBLISH
X-WR-CALNAME:Look Lively
X-ORIGINAL-URL:https://looklively.app
X-WR-CALDESC:Events for Look Lively
REFRESH-INTERVAL;VALUE=DURATION:PT1H
X-Robots-Tag:noindex
X-PUBLISHED-TTL:PT1H
BEGIN:VTIMEZONE
TZID:Europe/London
BEGIN:DAYLIGHT
TZOFFSETFROM:+0000
TZOFFSETTO:+0100
TZNAME:BST
DTSTART:20240331T010000
END:DAYLIGHT
BEGIN:STANDARD
TZOFFSETFROM:+0100
TZOFFSETTO:+0000
TZNAME:GMT
DTSTART:20241027T010000
END:STANDARD
BEGIN:DAYLIGHT
TZOFFSETFROM:+0000
TZOFFSETTO:+0100
TZNAME:BST
DTSTART:20250330T010000
END:DAYLIGHT
BEGIN:STANDARD
TZOFFSETFROM:+0100
TZOFFSETTO:+0000
TZNAME:GMT
DTSTART:20251026T010000
END:STANDARD
BEGIN:DAYLIGHT
TZOFFSETFROM:+0000
TZOFFSETTO:+0100
TZNAME:BST
DTSTART:20260329T010000
END:DAYLIGHT
BEGIN:STANDARD
TZOFFSETFROM:+0100
TZOFFSETTO:+0000
TZNAME:GMT
DTSTART:20261025T010000
END:STANDARD
END:VTIMEZONE
BEGIN:VEVENT
DTSTART;VALUE=DATE:20250515
DTEND;VALUE=DATE:20250516
DTSTAMP:20260425T004854
CREATED:20250328T092058Z
LAST-MODIFIED:20250328T092538Z
UID:13650-1747267200-1747353599@looklively.app
SUMMARY:Scottish Opera - Access The Merry Widow
DESCRIPTION:Feisty\, fabulous and filthy rich\, Hanna Glawari is the merriest widow in New York\, with a fortune in the bank\, a lucrative lemon grove in Sicily\, and a stampede of suitors vying for her attention. Perfomance starts at 3.00PM.
URL:https://looklively.app/event/scottish-opera-access-the-merry-widow/
LOCATION:Theatre Royal Glasgow\, 282 Hope St\, Glasgow\, G2 3QA\, United Kingdom
ATTACH;FMTTYPE=image/jpeg:https://looklively.app/wp-content/uploads/2025/03/MerryWidowAccess_Prod_1920x1080-1Oc1V1.tmp_.jpg
END:VEVENT
END:VCALENDAR