BEGIN:VCALENDAR
VERSION:2.0
PRODID:-//Look Lively - ECPv6.15.11//NONSGML v1.0//EN
CALSCALE:GREGORIAN
METHOD:PUBLISH
X-WR-CALNAME:Look Lively
X-ORIGINAL-URL:https://looklively.app
X-WR-CALDESC:Events for Look Lively
REFRESH-INTERVAL;VALUE=DURATION:PT1H
X-Robots-Tag:noindex
X-PUBLISHED-TTL:PT1H
BEGIN:VTIMEZONE
TZID:Europe/London
BEGIN:DAYLIGHT
TZOFFSETFROM:+0000
TZOFFSETTO:+0100
TZNAME:BST
DTSTART:20240331T010000
END:DAYLIGHT
BEGIN:STANDARD
TZOFFSETFROM:+0100
TZOFFSETTO:+0000
TZNAME:GMT
DTSTART:20241027T010000
END:STANDARD
BEGIN:DAYLIGHT
TZOFFSETFROM:+0000
TZOFFSETTO:+0100
TZNAME:BST
DTSTART:20250330T010000
END:DAYLIGHT
BEGIN:STANDARD
TZOFFSETFROM:+0100
TZOFFSETTO:+0000
TZNAME:GMT
DTSTART:20251026T010000
END:STANDARD
BEGIN:DAYLIGHT
TZOFFSETFROM:+0000
TZOFFSETTO:+0100
TZNAME:BST
DTSTART:20260329T010000
END:DAYLIGHT
BEGIN:STANDARD
TZOFFSETFROM:+0100
TZOFFSETTO:+0000
TZNAME:GMT
DTSTART:20261025T010000
END:STANDARD
END:VTIMEZONE
BEGIN:VEVENT
DTSTART;VALUE=DATE:20250117
DTEND;VALUE=DATE:20250202
DTSTAMP:20260420T071746
CREATED:20250117T162039Z
LAST-MODIFIED:20250117T163138Z
UID:9452-1737082800-1738378799@looklively.app
SUMMARY:Steak Baguette - Set Menu at The Courtyard
DESCRIPTION:Set Menu at The Courtyard – Featuring Our Famous Steak and Onion Baguette \nLooking for a delicious dining experience in Falkirk? \nThe Courtyard is serving up its popular Set Menu\, and the star of the show is our mouthwatering Steak and Onion Baguette. Perfectly cooked and packed with flavor\, it’s a dish you won’t want to miss. \nSet Menu Highlights:\n2 Courses: Just £13.95\n3 Courses: Only £16.95 \nPair your meal with one of our refreshing drinks and enjoy the cozy\, welcoming atmosphere that makes The Courtyard a favorite among locals. From hearty starters to indulgent desserts\, our Set Menu has something for everyone. \nAvailable Every Day\nCome along and enjoy this fantastic offer for lunch or dinner. It’s the perfect excuse to treat yourself or spend time with friends over great food. \nLocated in the heart of Falkirk\, The Courtyard is your go-to spot for incredible flavors\, great value\, and a dining experience to remember. \nDon’t miss out—book your table today and follow us on Facebook! \n#TheCourtyardFalkirk #FalkirkDining #SetMenuDeals #SteakAndOnionBaguette #TasteFalkirk
URL:https://looklively.app/event/steak-baguette-set-menu-at-the-courtyard/
LOCATION:The Courtyard\, 23 Baxter's Wynd\, Falkirk\, FK1 1PF\, United Kingdom
ATTACH;FMTTYPE=image/png:https://looklively.app/wp-content/uploads/2025/01/Untitled-design-23.png
END:VEVENT
END:VCALENDAR