BEGIN:VCALENDAR
VERSION:2.0
PRODID:-//Look Lively - ECPv6.15.11//NONSGML v1.0//EN
CALSCALE:GREGORIAN
METHOD:PUBLISH
X-WR-CALNAME:Look Lively
X-ORIGINAL-URL:https://looklively.app
X-WR-CALDESC:Events for Look Lively
REFRESH-INTERVAL;VALUE=DURATION:PT1H
X-Robots-Tag:noindex
X-PUBLISHED-TTL:PT1H
BEGIN:VTIMEZONE
TZID:Europe/London
BEGIN:DAYLIGHT
TZOFFSETFROM:+0000
TZOFFSETTO:+0100
TZNAME:BST
DTSTART:20260329T010000
END:DAYLIGHT
BEGIN:STANDARD
TZOFFSETFROM:+0100
TZOFFSETTO:+0000
TZNAME:GMT
DTSTART:20261025T010000
END:STANDARD
BEGIN:DAYLIGHT
TZOFFSETFROM:+0000
TZOFFSETTO:+0100
TZNAME:BST
DTSTART:20270328T010000
END:DAYLIGHT
BEGIN:STANDARD
TZOFFSETFROM:+0100
TZOFFSETTO:+0000
TZNAME:GMT
DTSTART:20271031T010000
END:STANDARD
BEGIN:DAYLIGHT
TZOFFSETFROM:+0000
TZOFFSETTO:+0100
TZNAME:BST
DTSTART:20280326T010000
END:DAYLIGHT
BEGIN:STANDARD
TZOFFSETFROM:+0100
TZOFFSETTO:+0000
TZNAME:GMT
DTSTART:20281029T010000
END:STANDARD
END:VTIMEZONE
BEGIN:VEVENT
DTSTART;TZID=Europe/London:20270411T200000
DTEND;TZID=Europe/London:20270411T200000
DTSTAMP:20260421T053236
CREATED:20250615T092224Z
LAST-MODIFIED:20250615T104006Z
UID:10025813-1807473600-1807473600@looklively.app
SUMMARY:Sunday Pub Quiz at The 78 Bar
DESCRIPTION:Pub Quiz Every Sunday\nCash Prize\n8.00PM \nBe quick to get booked in on 0141 248 9141 or book online at The78.co.uk
URL:https://looklively.app/event/sunday-pub-quiz-at-the-78-bar/2027-04-11/
LOCATION:The 78\, 10-14 Kelvinhaugh Street\, Glasgow\, G3 8NU\, United Kingdom
CATEGORIES:Glasgow,Glasgow - West End
ATTACH;FMTTYPE=image/jpeg:https://looklively.app/wp-content/uploads/2025/06/Templates-for-Look-Lively-Events-800-x-450-px-1600-x-900-px-11.jpg
END:VEVENT
END:VCALENDAR