BEGIN:VCALENDAR
VERSION:2.0
PRODID:-//Look Lively - ECPv6.15.11//NONSGML v1.0//EN
CALSCALE:GREGORIAN
METHOD:PUBLISH
X-WR-CALNAME:Look Lively
X-ORIGINAL-URL:https://looklively.app
X-WR-CALDESC:Events for Look Lively
REFRESH-INTERVAL;VALUE=DURATION:PT1H
X-Robots-Tag:noindex
X-PUBLISHED-TTL:PT1H
BEGIN:VTIMEZONE
TZID:Europe/London
BEGIN:DAYLIGHT
TZOFFSETFROM:+0000
TZOFFSETTO:+0100
TZNAME:BST
DTSTART:20240331T010000
END:DAYLIGHT
BEGIN:STANDARD
TZOFFSETFROM:+0100
TZOFFSETTO:+0000
TZNAME:GMT
DTSTART:20241027T010000
END:STANDARD
BEGIN:DAYLIGHT
TZOFFSETFROM:+0000
TZOFFSETTO:+0100
TZNAME:BST
DTSTART:20250330T010000
END:DAYLIGHT
BEGIN:STANDARD
TZOFFSETFROM:+0100
TZOFFSETTO:+0000
TZNAME:GMT
DTSTART:20251026T010000
END:STANDARD
BEGIN:DAYLIGHT
TZOFFSETFROM:+0000
TZOFFSETTO:+0100
TZNAME:BST
DTSTART:20260329T010000
END:DAYLIGHT
BEGIN:STANDARD
TZOFFSETFROM:+0100
TZOFFSETTO:+0000
TZNAME:GMT
DTSTART:20261025T010000
END:STANDARD
END:VTIMEZONE
BEGIN:VEVENT
DTSTART;TZID=Europe/London:20250207T193000
DTEND;TZID=Europe/London:20250207T233000
DTSTAMP:20260422T123917
CREATED:20250127T210357Z
LAST-MODIFIED:20250127T214035Z
UID:9966-1738956600-1738971000@looklively.app
SUMMARY:The Scotia Voice Factor – Heat 2 
DESCRIPTION:Heat up your February with The Scotia Voice Factor – Heat 2! Join us on 7th February for another night of incredible talent. Sign up with Tracey before 7:45 PM\, and the competition kicks off at 8:00 PM. Judges are scoring on voice\, stage presence\, and audience engagement\, so don’t hold back! Prefer to just watch? Come down and enjoy the show! It’s a night filled with laughs\, talent\, and good vibes. Mark your calendar for the Grand Final: 28th March!🏆 Grand Final Prizes:🥇 £100 Scotia Vouchers🥈 £50 Scotia Vouchers🥉 £25 Scotia Vouchers
URL:https://looklively.app/event/the-scotia-voice-factor-heat-2/
LOCATION:The Scotia\, 51 Manor St\, Falkirk\, FK1 1NH\, United Kingdom
ATTACH;FMTTYPE=image/png:https://looklively.app/wp-content/uploads/2025/01/EVENT-POST-PHOTO-20.png
END:VEVENT
END:VCALENDAR