BEGIN:VCALENDAR
VERSION:2.0
PRODID:-//Look Lively - ECPv6.15.11//NONSGML v1.0//EN
CALSCALE:GREGORIAN
METHOD:PUBLISH
X-WR-CALNAME:Look Lively
X-ORIGINAL-URL:https://looklively.app
X-WR-CALDESC:Events for Look Lively
REFRESH-INTERVAL;VALUE=DURATION:PT1H
X-Robots-Tag:noindex
X-PUBLISHED-TTL:PT1H
BEGIN:VTIMEZONE
TZID:Europe/London
BEGIN:DAYLIGHT
TZOFFSETFROM:+0000
TZOFFSETTO:+0100
TZNAME:BST
DTSTART:20240331T010000
END:DAYLIGHT
BEGIN:STANDARD
TZOFFSETFROM:+0100
TZOFFSETTO:+0000
TZNAME:GMT
DTSTART:20241027T010000
END:STANDARD
BEGIN:DAYLIGHT
TZOFFSETFROM:+0000
TZOFFSETTO:+0100
TZNAME:BST
DTSTART:20250330T010000
END:DAYLIGHT
BEGIN:STANDARD
TZOFFSETFROM:+0100
TZOFFSETTO:+0000
TZNAME:GMT
DTSTART:20251026T010000
END:STANDARD
BEGIN:DAYLIGHT
TZOFFSETFROM:+0000
TZOFFSETTO:+0100
TZNAME:BST
DTSTART:20260329T010000
END:DAYLIGHT
BEGIN:STANDARD
TZOFFSETFROM:+0100
TZOFFSETTO:+0000
TZNAME:GMT
DTSTART:20261025T010000
END:STANDARD
END:VTIMEZONE
BEGIN:VEVENT
DTSTART;TZID=Europe/London:20250221T193000
DTEND;TZID=Europe/London:20250221T233000
DTSTAMP:20260422T050923
CREATED:20250127T213244Z
LAST-MODIFIED:20250210T162229Z
UID:9974-1740166200-1740180600@looklively.app
SUMMARY:The Scotia Voice Factor – Heat 3
DESCRIPTION:Think you’ve got what it takes? Heat 4 of The Scotia Voice Factor is your chance to shine! Date: 21st FebruarySign up with Tracey by 7:45 PMCompetition starts at 8:00 PM Not planning to sing? No problem! Come along for a night of entertainment as talented locals light up the stage. Mark your calendars for the Grand Final on 28th March and compete for:£100 Scotia Vouchers£50 Scotia Vouchers£25 Scotia Vouchers
URL:https://looklively.app/event/the-scotia-voice-factor-heat-4/
LOCATION:The Scotia\, 51 Manor St\, Falkirk\, FK1 1NH\, United Kingdom
ATTACH;FMTTYPE=image/png:https://looklively.app/wp-content/uploads/2025/01/EVENT-POST-PHOTO-21.png
END:VEVENT
END:VCALENDAR