BEGIN:VCALENDAR
VERSION:2.0
PRODID:-//Look Lively - ECPv6.15.11//NONSGML v1.0//EN
CALSCALE:GREGORIAN
METHOD:PUBLISH
X-WR-CALNAME:Look Lively
X-ORIGINAL-URL:https://looklively.app
X-WR-CALDESC:Events for Look Lively
REFRESH-INTERVAL;VALUE=DURATION:PT1H
X-Robots-Tag:noindex
X-PUBLISHED-TTL:PT1H
BEGIN:VTIMEZONE
TZID:Europe/London
BEGIN:DAYLIGHT
TZOFFSETFROM:+0000
TZOFFSETTO:+0100
TZNAME:BST
DTSTART:20240331T010000
END:DAYLIGHT
BEGIN:STANDARD
TZOFFSETFROM:+0100
TZOFFSETTO:+0000
TZNAME:GMT
DTSTART:20241027T010000
END:STANDARD
BEGIN:DAYLIGHT
TZOFFSETFROM:+0000
TZOFFSETTO:+0100
TZNAME:BST
DTSTART:20250330T010000
END:DAYLIGHT
BEGIN:STANDARD
TZOFFSETFROM:+0100
TZOFFSETTO:+0000
TZNAME:GMT
DTSTART:20251026T010000
END:STANDARD
BEGIN:DAYLIGHT
TZOFFSETFROM:+0000
TZOFFSETTO:+0100
TZNAME:BST
DTSTART:20260329T010000
END:DAYLIGHT
BEGIN:STANDARD
TZOFFSETFROM:+0100
TZOFFSETTO:+0000
TZNAME:GMT
DTSTART:20261025T010000
END:STANDARD
END:VTIMEZONE
BEGIN:VEVENT
DTSTART;TZID=Europe/London:20250328T190000
DTEND;TZID=Europe/London:20250328T220000
DTSTAMP:20260422T082650
CREATED:20250225T204320Z
LAST-MODIFIED:20250321T060622Z
UID:11151-1743188400-1743199200@looklively.app
SUMMARY:The Voice Factor 2025 Grand Final at The Scotia
DESCRIPTION:After weeks of incredible performances\, it all comes down to this one night where the finalists compete for the ultimate title. Where: The ScotiaWhen: March 28thTime: 7PM to 10PM The best voices of the competition will take the stage\, giving it their all to impress the audience and judges. Each finalist has battled through the previous rounds\, showcasing talent\, stage presence\, and passion for music. Now\, only one will be crowned the winner. Prizes for the night include a £100 Scotia voucher for first place\, a £50 Scotia voucher for second place\, and a £25 Scotia voucher for third place. Whether you have been following the competition or are just looking for a great night of entertainment\, this is an event not to be missed. The atmosphere will be electric as the finalists take their last shot at the title. Come along\, support your favorite singer\, and be part of the excitement as we crown the 2025 Voice Factor champion. No tickets are required. Just turn up\, grab a drink\, and enjoy a night of outstanding performances and unforgettable moments at The Scotia!
URL:https://looklively.app/event/the-voice-factor-2025-grand-final-at-the-scotia/
LOCATION:The Scotia\, 51 Manor St\, Falkirk\, FK1 1NH\, United Kingdom
ATTACH;FMTTYPE=image/png:https://looklively.app/wp-content/uploads/2025/02/EVENT-POST-PHOTO-94.png
END:VEVENT
END:VCALENDAR