BEGIN:VCALENDAR
VERSION:2.0
PRODID:-//Look Lively - ECPv6.15.11//NONSGML v1.0//EN
CALSCALE:GREGORIAN
METHOD:PUBLISH
X-WR-CALNAME:Look Lively
X-ORIGINAL-URL:https://looklively.app
X-WR-CALDESC:Events for Look Lively
REFRESH-INTERVAL;VALUE=DURATION:PT1H
X-Robots-Tag:noindex
X-PUBLISHED-TTL:PT1H
BEGIN:VTIMEZONE
TZID:Europe/London
BEGIN:DAYLIGHT
TZOFFSETFROM:+0000
TZOFFSETTO:+0100
TZNAME:BST
DTSTART:20240331T010000
END:DAYLIGHT
BEGIN:STANDARD
TZOFFSETFROM:+0100
TZOFFSETTO:+0000
TZNAME:GMT
DTSTART:20241027T010000
END:STANDARD
BEGIN:DAYLIGHT
TZOFFSETFROM:+0000
TZOFFSETTO:+0100
TZNAME:BST
DTSTART:20250330T010000
END:DAYLIGHT
BEGIN:STANDARD
TZOFFSETFROM:+0100
TZOFFSETTO:+0000
TZNAME:GMT
DTSTART:20251026T010000
END:STANDARD
BEGIN:DAYLIGHT
TZOFFSETFROM:+0000
TZOFFSETTO:+0100
TZNAME:BST
DTSTART:20260329T010000
END:DAYLIGHT
BEGIN:STANDARD
TZOFFSETFROM:+0100
TZOFFSETTO:+0000
TZNAME:GMT
DTSTART:20261025T010000
END:STANDARD
END:VTIMEZONE
BEGIN:VEVENT
DTSTART;TZID=Europe/London:20250501T203000
DTEND;TZID=Europe/London:20250501T220000
DTSTAMP:20260421T183229
CREATED:20250425T110436Z
LAST-MODIFIED:20250606T120520Z
UID:10012616-1746131400-1746136800@looklively.app
SUMMARY:Thursday Quiz Night at Icons Sports Bar & Grill
DESCRIPTION:Thursday Quiz Night from 8.30PM
URL:https://looklively.app/event/thursday-quiz-night-at-icons-sports-bar-grill/2025-05-01/
LOCATION:Icons Sports Bar & Grill\, 7-11 Wooer St\, Falkirk\, FK1 1NJ\, United Kingdom
CATEGORIES:Falkirk
ATTACH;FMTTYPE=image/jpeg:https://looklively.app/wp-content/uploads/2025/04/Purple-Modern-Neon-Quiz-Night-Poster-1200-x-465-px-472-x-374-px-1200-x-675-px-800-x-450-px-3.jpg
END:VEVENT
END:VCALENDAR