BEGIN:VCALENDAR
VERSION:2.0
PRODID:-//Look Lively - ECPv6.15.11//NONSGML v1.0//EN
CALSCALE:GREGORIAN
METHOD:PUBLISH
X-WR-CALNAME:Look Lively
X-ORIGINAL-URL:https://looklively.app
X-WR-CALDESC:Events for Look Lively
REFRESH-INTERVAL;VALUE=DURATION:PT1H
X-Robots-Tag:noindex
X-PUBLISHED-TTL:PT1H
BEGIN:VTIMEZONE
TZID:Europe/London
BEGIN:DAYLIGHT
TZOFFSETFROM:+0000
TZOFFSETTO:+0100
TZNAME:BST
DTSTART:20240331T010000
END:DAYLIGHT
BEGIN:STANDARD
TZOFFSETFROM:+0100
TZOFFSETTO:+0000
TZNAME:GMT
DTSTART:20241027T010000
END:STANDARD
BEGIN:DAYLIGHT
TZOFFSETFROM:+0000
TZOFFSETTO:+0100
TZNAME:BST
DTSTART:20250330T010000
END:DAYLIGHT
BEGIN:STANDARD
TZOFFSETFROM:+0100
TZOFFSETTO:+0000
TZNAME:GMT
DTSTART:20251026T010000
END:STANDARD
BEGIN:DAYLIGHT
TZOFFSETFROM:+0000
TZOFFSETTO:+0100
TZNAME:BST
DTSTART:20260329T010000
END:DAYLIGHT
BEGIN:STANDARD
TZOFFSETFROM:+0100
TZOFFSETTO:+0000
TZNAME:GMT
DTSTART:20261025T010000
END:STANDARD
END:VTIMEZONE
BEGIN:VEVENT
DTSTART;TZID=Europe/London:20250214T190000
DTEND;TZID=Europe/London:20250214T230000
DTSTAMP:20260419T234707
CREATED:20250205T195800Z
LAST-MODIFIED:20250211T194428Z
UID:10297-1739559600-1739574000@looklively.app
SUMMARY:Valentine’s Night with Dionne Hickey at Blackmill Bar & Kitchen
DESCRIPTION: Valentine’s Night with Dionne Hickey!  Celebrate Valentine’s Day with a night to remember\, featuring the incredible Dionne Hickey! Get ready to dance the night away with party classics and dance anthems you know and love!Live music\, electric atmosphere\, and good vibes guaranteed!FREE ENTRY! Dining before the show? Be sure to book early—these nights fill up fast! Date: February 14thLocation: Blackmill Bar & KitchenTime: From 7pm
URL:https://looklively.app/event/valentines-night-with-dionne-hickey-at-blackmill-bar-kitchen/
LOCATION:The Blackmill Bar & Kitchen\, 193 Carronshore Rd\, Carron\, Falkirk FK2 8ES\, FK2 8ES\, United Kingdom
ATTACH;FMTTYPE=image/png:https://looklively.app/wp-content/uploads/2025/02/EVENT-POST-PHOTO-51.png
END:VEVENT
END:VCALENDAR