BEGIN:VCALENDAR
VERSION:2.0
PRODID:-//Look Lively - ECPv6.15.11//NONSGML v1.0//EN
CALSCALE:GREGORIAN
METHOD:PUBLISH
X-WR-CALNAME:Look Lively
X-ORIGINAL-URL:https://looklively.app
X-WR-CALDESC:Events for Look Lively
REFRESH-INTERVAL;VALUE=DURATION:PT1H
X-Robots-Tag:noindex
X-PUBLISHED-TTL:PT1H
BEGIN:VTIMEZONE
TZID:Europe/London
BEGIN:DAYLIGHT
TZOFFSETFROM:+0000
TZOFFSETTO:+0100
TZNAME:BST
DTSTART:20240331T010000
END:DAYLIGHT
BEGIN:STANDARD
TZOFFSETFROM:+0100
TZOFFSETTO:+0000
TZNAME:GMT
DTSTART:20241027T010000
END:STANDARD
BEGIN:DAYLIGHT
TZOFFSETFROM:+0000
TZOFFSETTO:+0100
TZNAME:BST
DTSTART:20250330T010000
END:DAYLIGHT
BEGIN:STANDARD
TZOFFSETFROM:+0100
TZOFFSETTO:+0000
TZNAME:GMT
DTSTART:20251026T010000
END:STANDARD
BEGIN:DAYLIGHT
TZOFFSETFROM:+0000
TZOFFSETTO:+0100
TZNAME:BST
DTSTART:20260329T010000
END:DAYLIGHT
BEGIN:STANDARD
TZOFFSETFROM:+0100
TZOFFSETTO:+0000
TZNAME:GMT
DTSTART:20261025T010000
END:STANDARD
END:VTIMEZONE
BEGIN:VEVENT
DTSTART;VALUE=DATE:20250405
DTEND;VALUE=DATE:20250615
DTSTAMP:20260419T220044
CREATED:20250402T190533Z
LAST-MODIFIED:20250606T130540Z
UID:14194-1743811200-1749945599@looklively.app
SUMMARY:Vivaldi Four Seasons by candlelight
DESCRIPTION:⭐ Immerse yourself in a magical evening with The Piccadilly Sinfonietta performing Vivaldi’s The Four Seasons and other masterpieces in the beautifully candlelit St Mary’s Episcopal Cathedral. Highlights 🎻 Experience Vivaldi’s iconic The Four Seasons performed in the enchanting candlelit setting of St Mary’s Cathedral Palmerston Place in Edinburgh 🎹 Enjoy other timeless classical masterpieces performed by the exceptionally talented musicians of the The Piccadilly Sinfonietta and guests ✨ Revel in a stunning musical program presented by one of the UK’s leading ensembles. General Info 📅 Date and Time: Select your date and time directly in the ticket selector 📍 Location: St Mary’s Episcopal Cathedral\, 23 Palmerston Place\, Edinburgh\, EH12 5AW. 👤 Age Requirements: All ages welcome. ♿ Accessibility: The venue is wheelchair accessible. ❗ For this event\, all sales are final and tickets can’t be refunded\, changed\, or modified. For more information\, please refer to our T&Cs. Description Join us for an unforgettable night at Vivaldi Four Seasons by Candlelight . The Piccadilly Sinfonietta will enchant you with Vivaldi’s masterpiece The Four Seasons \, complemented by other exceptional classical works. Set in the exquisite St Mary’s Episcopal Cathedral\, this candlelit concert promises to be a highlight of your weekend. Don’t miss this opportunity to experience world-class music in a stunning setting. Get your tickets now for Vivaldi Four Seasons by Candlelight in Edinburgh! Concert Details Saturday 5th April 2025 Featuring The Piccadilly Sinfonietta and guests Programme  Vivaldi – Violin concerto in G minor RV317\, Vivaldi -Violin concerto in E minor (La Stravaganza) RV 279\, Vivaldi – Double Violin Concerto Op. 3\, No. 8 in A Minor\, RV 522\, INTERVAL\, Vivaldi – Four Seasons Saturday 14th June 2025 Featuring  The Piccadilly Sinfonietta\, Warren Mailley-Smith (Piano)\, Matthew Jones (violin) Programme  Barber –  Adagio for Strings\,  Grieg –  Piano Concerto in A Minor\,  INTERVAL\, Vivaldi –  The Four Seasons
URL:https://looklively.app/event/vivaldi-four-seasons-by-candlelight/
LOCATION:St Mary’s Episcopal Cathedral\, Palmerston Place\, Edinburgh\, United Kingdom
CATEGORIES:Edinburgh
ATTACH;FMTTYPE=image/jpeg:https://looklively.app/wp-content/uploads/2025/04/d3b63302-6206-11ef-afff-c65a17e700a0-wpXG4j.tmp_.jpg
END:VEVENT
END:VCALENDAR