BEGIN:VCALENDAR
VERSION:2.0
PRODID:-//Look Lively - ECPv6.15.11//NONSGML v1.0//EN
CALSCALE:GREGORIAN
METHOD:PUBLISH
X-WR-CALNAME:Look Lively
X-ORIGINAL-URL:https://looklively.app
X-WR-CALDESC:Events for Look Lively
REFRESH-INTERVAL;VALUE=DURATION:PT1H
X-Robots-Tag:noindex
X-PUBLISHED-TTL:PT1H
BEGIN:VTIMEZONE
TZID:Europe/London
BEGIN:DAYLIGHT
TZOFFSETFROM:+0000
TZOFFSETTO:+0100
TZNAME:BST
DTSTART:20240331T010000
END:DAYLIGHT
BEGIN:STANDARD
TZOFFSETFROM:+0100
TZOFFSETTO:+0000
TZNAME:GMT
DTSTART:20241027T010000
END:STANDARD
BEGIN:DAYLIGHT
TZOFFSETFROM:+0000
TZOFFSETTO:+0100
TZNAME:BST
DTSTART:20250330T010000
END:DAYLIGHT
BEGIN:STANDARD
TZOFFSETFROM:+0100
TZOFFSETTO:+0000
TZNAME:GMT
DTSTART:20251026T010000
END:STANDARD
BEGIN:DAYLIGHT
TZOFFSETFROM:+0000
TZOFFSETTO:+0100
TZNAME:BST
DTSTART:20260329T010000
END:DAYLIGHT
BEGIN:STANDARD
TZOFFSETFROM:+0100
TZOFFSETTO:+0000
TZNAME:GMT
DTSTART:20261025T010000
END:STANDARD
END:VTIMEZONE
BEGIN:VEVENT
DTSTART;VALUE=DATE:20250402
DTEND;VALUE=DATE:20250615
DTSTAMP:20260422T150216
CREATED:20250402T190935Z
LAST-MODIFIED:20250606T130032Z
UID:14242-1743552000-1749945599@looklively.app
SUMMARY:Watch Building Experience with Kartel Scotland Edinburgh
DESCRIPTION:Smartphone tickets ⚡ Instant access to your tickets ⏳ Duration: up to 1 hour 30 minutes 👉 Available in English Dive into the heart of St Andrews for an unforgettable afternoon at our plush flagship store! Uncover the secrets of Scotland’s watchmaking heritage and create your very own bespoke timepiece with our exclusive One of One design service\nChoose your components and add a personal touch with an engraved message\nPlus\, savor the finest Scottish delicacies while exploring our collection of locally sourced strap materials\nA uniquely Scottish experience awaits\, complete with a custom wristwatch to cherish forever\nGet your tickets for Watch Building Experience with Kartel Scotland Edinburgh! Highlights 🎨 Design your bespoke watch with our One of One service\n🍽️ Indulge in the finest Scottish food and drink\n⌚ Take home a uniquely customized wristwatch with a personal engraved message\nWhat’s included? ✔️ £245 retail credit for your custom-built watch\n✔️ Snacks to keep your creativity fueled\n✔️ Engraving Equipment to personalize your masterpiece\n✔️ Alcoholic Beverages to toast to your new creation\nAdditional Information 👶 Infants must sit on an adult’s lap\, and prams or strollers are welcome for infants and small children\n🐕 Service animals are allowed\n🚆 Nearby public transportation options are available\n♿ The experience is wheelchair accessible\, including transportation options\n🏋️‍♂️ Suitable for all physical fitness levels\nWhy choose Fever? ✔️ Millions of users book every month\n✔️ The best prices and availability at all times\n✔️ Thousands of unique experiences\n✔️ Verified user reviews\n✔️ 24/7 customer service\nExperience supplied by Kartel Scotland All ticket sales are final and cannot be refunded\, exchanged\, or otherwise modified\nClick here to check out the T&Cs
URL:https://looklively.app/event/watch-building-experience-with-kartel-scotland-edinburgh/
LOCATION:Kartel Watches\, Saint James Square\, Edinburgh\, EH1 3AE\, United Kingdom
CATEGORIES:Edinburgh
ATTACH;FMTTYPE=image/jpeg:https://looklively.app/wp-content/uploads/2025/04/6eaba61c-1135-11ef-ab85-5a67b83da76e-AF42B4.tmp_.jpg
END:VEVENT
END:VCALENDAR